BEGIN:VCALENDAR
VERSION:2.0
PRODID:-//Escuela Activa Integral A.C. - ECPv6.15.20//NONSGML v1.0//EN
CALSCALE:GREGORIAN
METHOD:PUBLISH
X-ORIGINAL-URL:https://www.activa.edu.mx
X-WR-CALDESC:Eventos para Escuela Activa Integral A.C.
REFRESH-INTERVAL;VALUE=DURATION:PT1H
X-Robots-Tag:noindex
X-PUBLISHED-TTL:PT1H
BEGIN:VTIMEZONE
TZID:America/Denver
BEGIN:DAYLIGHT
TZOFFSETFROM:-0700
TZOFFSETTO:-0600
TZNAME:MDT
DTSTART:20230312T090000
END:DAYLIGHT
BEGIN:STANDARD
TZOFFSETFROM:-0600
TZOFFSETTO:-0700
TZNAME:MST
DTSTART:20231105T080000
END:STANDARD
BEGIN:DAYLIGHT
TZOFFSETFROM:-0700
TZOFFSETTO:-0600
TZNAME:MDT
DTSTART:20240310T090000
END:DAYLIGHT
BEGIN:STANDARD
TZOFFSETFROM:-0600
TZOFFSETTO:-0700
TZNAME:MST
DTSTART:20241103T080000
END:STANDARD
BEGIN:DAYLIGHT
TZOFFSETFROM:-0700
TZOFFSETTO:-0600
TZNAME:MDT
DTSTART:20250309T090000
END:DAYLIGHT
BEGIN:STANDARD
TZOFFSETFROM:-0600
TZOFFSETTO:-0700
TZNAME:MST
DTSTART:20251102T080000
END:STANDARD
BEGIN:DAYLIGHT
TZOFFSETFROM:-0700
TZOFFSETTO:-0600
TZNAME:MDT
DTSTART:20260308T090000
END:DAYLIGHT
BEGIN:STANDARD
TZOFFSETFROM:-0600
TZOFFSETTO:-0700
TZNAME:MST
DTSTART:20261101T080000
END:STANDARD
END:VTIMEZONE
BEGIN:VEVENT
DTSTART;VALUE=DATE:20241219
DTEND;VALUE=DATE:20250109
DTSTAMP:20260421T070404
CREATED:20240911T171227Z
LAST-MODIFIED:20240911T171227Z
UID:7099-1734566400-1736380799@www.activa.edu.mx
SUMMARY:🎄Vacaciones
DESCRIPTION:
URL:https://www.activa.edu.mx/event/%f0%9f%8e%84vacaciones/
CATEGORIES:General
END:VEVENT
BEGIN:VEVENT
DTSTART;TZID=America/Denver:20250109T070000
DTEND;TZID=America/Denver:20250109T140000
DTSTAMP:20260421T070404
CREATED:20240911T171607Z
LAST-MODIFIED:20240911T172116Z
UID:6923-1736406000-1736431200@www.activa.edu.mx
SUMMARY:🎒 Regreso a clases
DESCRIPTION:
URL:https://www.activa.edu.mx/event/regreso-de-alumnos/
CATEGORIES:General
END:VEVENT
BEGIN:VEVENT
DTSTART;TZID=America/Denver:20250113T080000
DTEND;TZID=America/Denver:20250113T140000
DTSTAMP:20260421T070404
CREATED:20240911T171845Z
LAST-MODIFIED:20240911T171845Z
UID:6925-1736755200-1736776800@www.activa.edu.mx
SUMMARY:📧 Aviso de reinscripciones
DESCRIPTION:
URL:https://www.activa.edu.mx/event/%f0%9f%93%a7-aviso-de-reinscripciones/
CATEGORIES:General
END:VEVENT
BEGIN:VEVENT
DTSTART;TZID=America/Denver:20250115T073000
DTEND;TZID=America/Denver:20250115T140000
DTSTAMP:20260421T070404
CREATED:20240911T172316Z
LAST-MODIFIED:20240911T172316Z
UID:6927-1736926200-1736949600@www.activa.edu.mx
SUMMARY:Presentación de Primaria y Secundaria
DESCRIPTION:
URL:https://www.activa.edu.mx/event/presentacion-de-primaria-y-secundaria/
CATEGORIES:Primaria,Secundaria
END:VEVENT
BEGIN:VEVENT
DTSTART;TZID=America/Denver:20250115T083000
DTEND;TZID=America/Denver:20250115T090000
DTSTAMP:20260421T070404
CREATED:20240911T172334Z
LAST-MODIFIED:20240911T172334Z
UID:6932-1736929800-1736931600@www.activa.edu.mx
SUMMARY:♻️ Acopio Kínder
DESCRIPTION:
URL:https://www.activa.edu.mx/event/%e2%99%bb%ef%b8%8f-acopio-kinder-7/
CATEGORIES:Kínder
END:VEVENT
BEGIN:VEVENT
DTSTART;TZID=America/Denver:20250116T070000
DTEND;TZID=America/Denver:20250116T073000
DTSTAMP:20260421T070404
CREATED:20240911T172419Z
LAST-MODIFIED:20250116T184751Z
UID:6934-1737010800-1737012600@www.activa.edu.mx
SUMMARY:♻️ Acopio (recibe 1°S)
DESCRIPTION:
URL:https://www.activa.edu.mx/event/%e2%99%bb%ef%b8%8f-acopio-recibe-5p/
CATEGORIES:Ecología Activa,General
END:VEVENT
BEGIN:VEVENT
DTSTART;TZID=America/Denver:20250121T083000
DTEND;TZID=America/Denver:20250121T093000
DTSTAMP:20260421T070404
CREATED:20240911T172608Z
LAST-MODIFIED:20241106T161113Z
UID:6936-1737448200-1737451800@www.activa.edu.mx
SUMMARY:Matrogimnasia | 3°K
DESCRIPTION:
URL:https://www.activa.edu.mx/event/matrogimnasia-kinder/
CATEGORIES:Kínder
END:VEVENT
BEGIN:VEVENT
DTSTART;TZID=America/Denver:20250122T083000
DTEND;TZID=America/Denver:20250122T093000
DTSTAMP:20260421T070404
CREATED:20240905T162312Z
LAST-MODIFIED:20241106T161220Z
UID:6944-1737534600-1737538200@www.activa.edu.mx
SUMMARY:Matrogimnasia | 2°K
DESCRIPTION:
URL:https://www.activa.edu.mx/event/matrogimnasia-kinder-2/
CATEGORIES:Kínder
END:VEVENT
BEGIN:VEVENT
DTSTART;TZID=America/Denver:20250126T080000
DTEND;TZID=America/Denver:20250126T133000
DTSTAMP:20260421T070404
CREATED:20240911T172726Z
LAST-MODIFIED:20240911T172726Z
UID:6940-1737878400-1737898200@www.activa.edu.mx
SUMMARY:🏅 Miniolimpiada
DESCRIPTION:
URL:https://www.activa.edu.mx/event/%f0%9f%8f%85-miniolimpiada/
CATEGORIES:Deportes,General
END:VEVENT
BEGIN:VEVENT
DTSTART;VALUE=DATE:20250127
DTEND;VALUE=DATE:20250201
DTSTAMP:20260421T070404
CREATED:20240911T173249Z
LAST-MODIFIED:20240911T173249Z
UID:6950-1737936000-1738367999@www.activa.edu.mx
SUMMARY:🏆⚽Copa Activa de Fútbol
DESCRIPTION:
URL:https://www.activa.edu.mx/event/%f0%9f%8f%86%e2%9a%bdcopa-activa-de-futbol/
CATEGORIES:Deportes,General
END:VEVENT
BEGIN:VEVENT
DTSTART;TZID=America/Denver:20250127T100000
DTEND;TZID=America/Denver:20250127T140000
DTSTAMP:20260421T070404
CREATED:20240911T172744Z
LAST-MODIFIED:20240911T172744Z
UID:6942-1737972000-1737986400@www.activa.edu.mx
SUMMARY:Entrada de alumnos a las 10:00 AM
DESCRIPTION:
URL:https://www.activa.edu.mx/event/entrada-de-alumnos-a-las-1000-am/
CATEGORIES:General
END:VEVENT
BEGIN:VEVENT
DTSTART;VALUE=DATE:20250128
DTEND;VALUE=DATE:20250131
DTSTAMP:20260421T070404
CREATED:20240911T173033Z
LAST-MODIFIED:20240911T173117Z
UID:6948-1738022400-1738281599@www.activa.edu.mx
SUMMARY:🫶 Semana del Autocuidado
DESCRIPTION:
URL:https://www.activa.edu.mx/event/%f0%9f%ab%b6-semana-del-autocuidado/
CATEGORIES:General
END:VEVENT
BEGIN:VEVENT
DTSTART;TZID=America/Denver:20250128T090000
DTEND;TZID=America/Denver:20250128T100000
DTSTAMP:20260421T070404
CREATED:20240125T153352Z
LAST-MODIFIED:20241106T161407Z
UID:3305-1738054800-1738058400@www.activa.edu.mx
SUMMARY:Matrogimnasia | 1°K
DESCRIPTION:
URL:https://www.activa.edu.mx/event/matrogimnasia-1k/
CATEGORIES:Kínder
END:VEVENT
BEGIN:VEVENT
DTSTART;TZID=America/Denver:20250129T090000
DTEND;TZID=America/Denver:20250129T100000
DTSTAMP:20260421T070404
CREATED:20240125T153224Z
LAST-MODIFIED:20241106T161446Z
UID:3303-1738141200-1738144800@www.activa.edu.mx
SUMMARY:Matrogimnasia | E.T.
DESCRIPTION:
URL:https://www.activa.edu.mx/event/matrogimnasia-e-t/
CATEGORIES:Kínder
END:VEVENT
BEGIN:VEVENT
DTSTART;VALUE=DATE:20250131
DTEND;VALUE=DATE:20250201
DTSTAMP:20260421T070404
CREATED:20240911T173451Z
LAST-MODIFIED:20240911T173451Z
UID:6952-1738281600-1738367999@www.activa.edu.mx
SUMMARY:CTE | No hay clases
DESCRIPTION:
URL:https://www.activa.edu.mx/event/cte-no-hay-clases-7/
CATEGORIES:General
END:VEVENT
END:VCALENDAR