BEGIN:VCALENDAR
VERSION:2.0
PRODID:-//Escuela Activa Integral A.C. - ECPv6.15.20//NONSGML v1.0//EN
CALSCALE:GREGORIAN
METHOD:PUBLISH
X-ORIGINAL-URL:https://www.activa.edu.mx
X-WR-CALDESC:Eventos para Escuela Activa Integral A.C.
REFRESH-INTERVAL;VALUE=DURATION:PT1H
X-Robots-Tag:noindex
X-PUBLISHED-TTL:PT1H
BEGIN:VTIMEZONE
TZID:America/Denver
BEGIN:DAYLIGHT
TZOFFSETFROM:-0700
TZOFFSETTO:-0600
TZNAME:MDT
DTSTART:20230312T090000
END:DAYLIGHT
BEGIN:STANDARD
TZOFFSETFROM:-0600
TZOFFSETTO:-0700
TZNAME:MST
DTSTART:20231105T080000
END:STANDARD
BEGIN:DAYLIGHT
TZOFFSETFROM:-0700
TZOFFSETTO:-0600
TZNAME:MDT
DTSTART:20240310T090000
END:DAYLIGHT
BEGIN:STANDARD
TZOFFSETFROM:-0600
TZOFFSETTO:-0700
TZNAME:MST
DTSTART:20241103T080000
END:STANDARD
BEGIN:DAYLIGHT
TZOFFSETFROM:-0700
TZOFFSETTO:-0600
TZNAME:MDT
DTSTART:20250309T090000
END:DAYLIGHT
BEGIN:STANDARD
TZOFFSETFROM:-0600
TZOFFSETTO:-0700
TZNAME:MST
DTSTART:20251102T080000
END:STANDARD
END:VTIMEZONE
BEGIN:VEVENT
DTSTART;VALUE=DATE:20240930
DTEND;VALUE=DATE:20241005
DTSTAMP:20260424T051937
CREATED:20240829T193158Z
LAST-MODIFIED:20240911T165012Z
UID:6809-1727654400-1728086399@www.activa.edu.mx
SUMMARY:Parcial 1 | Kínder\, Primaria y Secundaria
DESCRIPTION:
URL:https://www.activa.edu.mx/event/evaluaciones-i-trim-1er-parcial-kinder-primaria-y-secundaria/
CATEGORIES:Kínder,Primaria,Secundaria
END:VEVENT
BEGIN:VEVENT
DTSTART;VALUE=DATE:20241007
DTEND;VALUE=DATE:20241012
DTSTAMP:20260424T051937
CREATED:20240829T193429Z
LAST-MODIFIED:20240911T165047Z
UID:6819-1728259200-1728691199@www.activa.edu.mx
SUMMARY:Parcial 1 | Kínder\, Primaria y Secundaria
DESCRIPTION:
URL:https://www.activa.edu.mx/event/evaluaciones-i-trim-1er-parcial-kinder-primaria-y-secundaria-6/
CATEGORIES:Kínder,Primaria,Secundaria
END:VEVENT
BEGIN:VEVENT
DTSTART;TZID=America/Denver:20241011T090000
DTEND;TZID=America/Denver:20241011T100000
DTSTAMP:20260424T051937
CREATED:20240829T194003Z
LAST-MODIFIED:20240829T194003Z
UID:6829-1728637200-1728640800@www.activa.edu.mx
SUMMARY:Presentación del Plan Didáctico a papás de 1°K
DESCRIPTION:
URL:https://www.activa.edu.mx/event/presentacion-del-plan-didactico-a-papas-de-1k/
CATEGORIES:Kínder
END:VEVENT
BEGIN:VEVENT
DTSTART;TZID=America/Denver:20241017T090000
DTEND;TZID=America/Denver:20241017T093000
DTSTAMP:20260424T051937
CREATED:20240903T180045Z
LAST-MODIFIED:20240903T180045Z
UID:6898-1729155600-1729157400@www.activa.edu.mx
SUMMARY:Taller coreográfico 💃🕺
DESCRIPTION:
URL:https://www.activa.edu.mx/event/taller-coreografico-%f0%9f%92%83%f0%9f%95%ba/
END:VEVENT
BEGIN:VEVENT
DTSTART;VALUE=DATE:20241021
DTEND;VALUE=DATE:20241026
DTSTAMP:20260424T051937
CREATED:20240902T205449Z
LAST-MODIFIED:20240902T205449Z
UID:6860-1729468800-1729900799@www.activa.edu.mx
SUMMARY:Viaje 6°P
DESCRIPTION:
URL:https://www.activa.edu.mx/event/viaje-6p/
CATEGORIES:Primaria
END:VEVENT
BEGIN:VEVENT
DTSTART;TZID=America/Denver:20241024T093000
DTEND;TZID=America/Denver:20241024T100000
DTSTAMP:20260424T051937
CREATED:20241017T175743Z
LAST-MODIFIED:20241017T175743Z
UID:7229-1729762200-1729764000@www.activa.edu.mx
SUMMARY:52° Aniversario de la EAI *Reprogramado
DESCRIPTION:
URL:https://www.activa.edu.mx/event/52-aniversario-de-la-eai-reprogramado/
CATEGORIES:General
END:VEVENT
BEGIN:VEVENT
DTSTART;VALUE=DATE:20241025
DTEND;VALUE=DATE:20241026
DTSTAMP:20260424T051937
CREATED:20240902T205501Z
LAST-MODIFIED:20240902T205501Z
UID:6852-1729814400-1729900799@www.activa.edu.mx
SUMMARY:CTE | No hay clases
DESCRIPTION:
URL:https://www.activa.edu.mx/event/cte-no-hay-clases-6/
CATEGORIES:General
END:VEVENT
BEGIN:VEVENT
DTSTART;TZID=America/Denver:20241028T083000
DTEND;TZID=America/Denver:20241028T093000
DTSTAMP:20260424T051937
CREATED:20240902T205453Z
LAST-MODIFIED:20241017T182438Z
UID:6858-1730104200-1730107800@www.activa.edu.mx
SUMMARY:Asamblea de A.C.
DESCRIPTION:8:30 am. en primera convocatoria \n9:00 am. en segunda convocatoria \n 
URL:https://www.activa.edu.mx/event/asamblea-de-a-c/
CATEGORIES:General
END:VEVENT
END:VCALENDAR