BEGIN:VCALENDAR
VERSION:2.0
PRODID:-//Escuela Activa Integral A.C. - ECPv6.15.20//NONSGML v1.0//EN
CALSCALE:GREGORIAN
METHOD:PUBLISH
X-ORIGINAL-URL:https://www.activa.edu.mx
X-WR-CALDESC:Eventos para Escuela Activa Integral A.C.
REFRESH-INTERVAL;VALUE=DURATION:PT1H
X-Robots-Tag:noindex
X-PUBLISHED-TTL:PT1H
BEGIN:VTIMEZONE
TZID:America/Denver
BEGIN:DAYLIGHT
TZOFFSETFROM:-0700
TZOFFSETTO:-0600
TZNAME:MDT
DTSTART:20240310T090000
END:DAYLIGHT
BEGIN:STANDARD
TZOFFSETFROM:-0600
TZOFFSETTO:-0700
TZNAME:MST
DTSTART:20241103T080000
END:STANDARD
BEGIN:DAYLIGHT
TZOFFSETFROM:-0700
TZOFFSETTO:-0600
TZNAME:MDT
DTSTART:20250309T090000
END:DAYLIGHT
BEGIN:STANDARD
TZOFFSETFROM:-0600
TZOFFSETTO:-0700
TZNAME:MST
DTSTART:20251102T080000
END:STANDARD
BEGIN:DAYLIGHT
TZOFFSETFROM:-0700
TZOFFSETTO:-0600
TZNAME:MDT
DTSTART:20260308T090000
END:DAYLIGHT
BEGIN:STANDARD
TZOFFSETFROM:-0600
TZOFFSETTO:-0700
TZNAME:MST
DTSTART:20261101T080000
END:STANDARD
BEGIN:DAYLIGHT
TZOFFSETFROM:-0700
TZOFFSETTO:-0600
TZNAME:MDT
DTSTART:20270314T090000
END:DAYLIGHT
BEGIN:STANDARD
TZOFFSETFROM:-0600
TZOFFSETTO:-0700
TZNAME:MST
DTSTART:20271107T080000
END:STANDARD
END:VTIMEZONE
BEGIN:VEVENT
DTSTART;VALUE=DATE:20260119
DTEND;VALUE=DATE:20260124
DTSTAMP:20260421T084822
CREATED:20250901T173719Z
LAST-MODIFIED:20250901T173719Z
UID:12243-1768780800-1769212799@www.activa.edu.mx
SUMMARY:🫶 Semana del Autocuidado
DESCRIPTION:
URL:https://www.activa.edu.mx/event/%f0%9f%ab%b6-semana-del-autocuidado-2/
END:VEVENT
BEGIN:VEVENT
DTSTART;TZID=America/Denver:20260115T083000
DTEND;TZID=America/Denver:20260115T083000
DTSTAMP:20260421T084822
CREATED:20250901T173015Z
LAST-MODIFIED:20260112T185600Z
UID:12234-1768465800-1768465800@www.activa.edu.mx
SUMMARY:Presentación de Primaria a Papás de 3°K
DESCRIPTION:Salón de usos múltiples 
URL:https://www.activa.edu.mx/event/presentacion-de-primaria-a-papas-de-3k/
END:VEVENT
BEGIN:VEVENT
DTSTART;TZID=America/Denver:20260115T070000
DTEND;TZID=America/Denver:20260115T070000
DTSTAMP:20260421T084822
CREATED:20250901T173052Z
LAST-MODIFIED:20260112T185528Z
UID:12237-1768460400-1768460400@www.activa.edu.mx
SUMMARY:Presentación de Secundaria a Papás de 6°P
DESCRIPTION:Salón 3 de Secundaria
URL:https://www.activa.edu.mx/event/presentacion-de-secundaria-a-papas-de-6p/
END:VEVENT
BEGIN:VEVENT
DTSTART;VALUE=DATE:20260115
DTEND;VALUE=DATE:20260116
DTSTAMP:20260421T084822
CREATED:20250901T171158Z
LAST-MODIFIED:20250901T171158Z
UID:12228-1768435200-1768521599@www.activa.edu.mx
SUMMARY:♻️ Acopio (recibe 5°P)
DESCRIPTION:
URL:https://www.activa.edu.mx/event/%e2%99%bb%ef%b8%8f-acopio-recibe-5p-2/
END:VEVENT
BEGIN:VEVENT
DTSTART;VALUE=DATE:20260114
DTEND;VALUE=DATE:20260115
DTSTAMP:20260421T084822
CREATED:20250901T171135Z
LAST-MODIFIED:20250901T171135Z
UID:12226-1768348800-1768435199@www.activa.edu.mx
SUMMARY:♻️ Acopio Kínder
DESCRIPTION:
URL:https://www.activa.edu.mx/event/%e2%99%bb%ef%b8%8f-acopio-kinder-13/
END:VEVENT
BEGIN:VEVENT
DTSTART;VALUE=DATE:20260112
DTEND;VALUE=DATE:20260113
DTSTAMP:20260421T084822
CREATED:20251124T162226Z
LAST-MODIFIED:20251124T162310Z
UID:13071-1768176000-1768262399@www.activa.edu.mx
SUMMARY:🎒 Regreso a clases
DESCRIPTION:
URL:https://www.activa.edu.mx/event/%f0%9f%8e%92-regreso-a-clases-2/
END:VEVENT
BEGIN:VEVENT
DTSTART;VALUE=DATE:20260112
DTEND;VALUE=DATE:20260113
DTSTAMP:20260421T084822
CREATED:20250901T170937Z
LAST-MODIFIED:20250901T170937Z
UID:12224-1768176000-1768262399@www.activa.edu.mx
SUMMARY:📧 Aviso de reinscripciones
DESCRIPTION:
URL:https://www.activa.edu.mx/event/%f0%9f%93%a7-aviso-de-reinscripciones-2/
END:VEVENT
BEGIN:VEVENT
DTSTART;VALUE=DATE:20251220
DTEND;VALUE=DATE:20260112
DTSTAMP:20260421T084822
CREATED:20250821T201025Z
LAST-MODIFIED:20250821T201025Z
UID:12221-1766188800-1768175999@www.activa.edu.mx
SUMMARY:Vacaciones
DESCRIPTION:
URL:https://www.activa.edu.mx/event/vacaciones-3/
END:VEVENT
BEGIN:VEVENT
DTSTART;TZID=America/Denver:20251219T100000
DTEND;TZID=America/Denver:20251219T123000
DTSTAMP:20260421T084822
CREATED:20250821T200914Z
LAST-MODIFIED:20251215T182016Z
UID:12217-1766138400-1766147400@www.activa.edu.mx
SUMMARY:Posada alumnos 🎁
DESCRIPTION:Kínder 9:45 am a 12:15 pm \nPrimaria 10:00 am a 12:30 pm \nSecundaria 10:00am a 12:30 pm
URL:https://www.activa.edu.mx/event/posada-alumnos-%f0%9f%8e%81/
END:VEVENT
BEGIN:VEVENT
DTSTART;TZID=America/Denver:20251216T170000
DTEND;TZID=America/Denver:20251216T170000
DTSTAMP:20260421T084822
CREATED:20250821T200706Z
LAST-MODIFIED:20251124T162515Z
UID:12215-1765904400-1765904400@www.activa.edu.mx
SUMMARY:Festival Navideño y Pastorela 🌟
DESCRIPTION:
URL:https://www.activa.edu.mx/event/festival-navideno-y-pastorela-%f0%9f%8c%9f/
END:VEVENT
BEGIN:VEVENT
DTSTART;TZID=America/Denver:20251216T090000
DTEND;TZID=America/Denver:20251216T090000
DTSTAMP:20260421T084822
CREATED:20250821T200534Z
LAST-MODIFIED:20251124T203543Z
UID:12213-1765875600-1765875600@www.activa.edu.mx
SUMMARY:Coro Navideño 🎶 2° y 3°P
DESCRIPTION:
URL:https://www.activa.edu.mx/event/coro-navideno-%f0%9f%8e%b6-2-y-3p/
END:VEVENT
BEGIN:VEVENT
DTSTART;VALUE=DATE:20251215
DTEND;VALUE=DATE:20251219
DTSTAMP:20260421T084822
CREATED:20250821T200450Z
LAST-MODIFIED:20250821T200450Z
UID:12211-1765756800-1766102399@www.activa.edu.mx
SUMMARY:Parcial 1 trimestre 2 | Kínder\, Primaria y Secundaria
DESCRIPTION:
URL:https://www.activa.edu.mx/event/parcial-1-trimestre-2-kinder-primaria-y-secundaria-2/
END:VEVENT
BEGIN:VEVENT
DTSTART;TZID=America/Denver:20251212T163000
DTEND;TZID=America/Denver:20251212T203000
DTSTAMP:20260421T084822
CREATED:20250821T200346Z
LAST-MODIFIED:20251124T162429Z
UID:12207-1765557000-1765571400@www.activa.edu.mx
SUMMARY:Posada de Personal Activo 🎄
DESCRIPTION:
URL:https://www.activa.edu.mx/event/posada-de-personal-activo-%f0%9f%8e%84/
END:VEVENT
BEGIN:VEVENT
DTSTART;VALUE=DATE:20251212
DTEND;VALUE=DATE:20251213
DTSTAMP:20260421T084822
CREATED:20250821T200314Z
LAST-MODIFIED:20250821T200314Z
UID:12204-1765497600-1765583999@www.activa.edu.mx
SUMMARY:Carta a Santa 🎅 Kínder
DESCRIPTION:
URL:https://www.activa.edu.mx/event/carta-a-santa-%f0%9f%8e%85-kinder/
END:VEVENT
BEGIN:VEVENT
DTSTART;VALUE=DATE:20251209
DTEND;VALUE=DATE:20251213
DTSTAMP:20260421T084822
CREATED:20250821T200138Z
LAST-MODIFIED:20251124T202428Z
UID:12198-1765238400-1765583999@www.activa.edu.mx
SUMMARY:English Week
DESCRIPTION:
URL:https://www.activa.edu.mx/event/english-week-2/
END:VEVENT
BEGIN:VEVENT
DTSTART;TZID=America/Denver:20251208T080000
DTEND;TZID=America/Denver:20251208T080000
DTSTAMP:20260421T084822
CREATED:20250821T200118Z
LAST-MODIFIED:20251124T203608Z
UID:12196-1765180800-1765180800@www.activa.edu.mx
SUMMARY:🇲🇽 Homenaje 4°P
DESCRIPTION:
URL:https://www.activa.edu.mx/event/%f0%9f%87%b2%f0%9f%87%bd-homenaje-4p-2/
END:VEVENT
BEGIN:VEVENT
DTSTART;VALUE=DATE:20251208
DTEND;VALUE=DATE:20251213
DTSTAMP:20260421T084822
CREATED:20250821T200428Z
LAST-MODIFIED:20250821T200428Z
UID:12209-1765152000-1765583999@www.activa.edu.mx
SUMMARY:Parcial 1 trimestre 2 | Kínder\, Primaria y Secundaria
DESCRIPTION:
URL:https://www.activa.edu.mx/event/parcial-1-trimestre-2-kinder-primaria-y-secundaria/
END:VEVENT
BEGIN:VEVENT
DTSTART;TZID=America/Denver:20251204T090000
DTEND;TZID=America/Denver:20251204T090000
DTSTAMP:20260421T084822
CREATED:20250821T195913Z
LAST-MODIFIED:20250903T173729Z
UID:12192-1764838800-1764838800@www.activa.edu.mx
SUMMARY:Taller coreográfico 💃🕺
DESCRIPTION:
URL:https://www.activa.edu.mx/event/taller-coreografico-%f0%9f%92%83%f0%9f%95%ba-4/
END:VEVENT
BEGIN:VEVENT
DTSTART;TZID=America/Denver:20251203T083000
DTEND;TZID=America/Denver:20251203T083000
DTSTAMP:20260421T084822
CREATED:20250821T195818Z
LAST-MODIFIED:20251124T174538Z
UID:12190-1764750600-1764750600@www.activa.edu.mx
SUMMARY:Junta entrega de calificaciones  ET y 2° | Kínder
DESCRIPTION:2°K: 8:30 am – Salón de usos múltiples\n\n\nET: 9:00 am – Biblioteca de Kínder
URL:https://www.activa.edu.mx/event/junta-entrega-de-calificaciones-kinder-2/
END:VEVENT
BEGIN:VEVENT
DTSTART;TZID=America/Denver:20251202T163000
DTEND;TZID=America/Denver:20251202T183000
DTSTAMP:20260421T084822
CREATED:20251002T193410Z
LAST-MODIFIED:20251002T193410Z
UID:12726-1764693000-1764700200@www.activa.edu.mx
SUMMARY:Taller “Padres Activos y Eficaces” | UFA
DESCRIPTION:Sesión 8/8
URL:https://www.activa.edu.mx/event/taller-padres-activos-y-eficaces-ufa-8/
CATEGORIES:UFA
END:VEVENT
BEGIN:VEVENT
DTSTART;TZID=America/Denver:20251202T083000
DTEND;TZID=America/Denver:20251202T083000
DTSTAMP:20260421T084822
CREATED:20250821T195756Z
LAST-MODIFIED:20251124T174457Z
UID:12188-1764664200-1764664200@www.activa.edu.mx
SUMMARY:Junta entrega de calificaciones 1° y 3° | Kínder
DESCRIPTION:3°K: 8:30 am – Salón de usos múltiples\n\n\n1°K: 9:00 am – Biblioteca de Kínder
URL:https://www.activa.edu.mx/event/junta-entrega-de-calificaciones-kinder/
END:VEVENT
BEGIN:VEVENT
DTSTART;TZID=America/Denver:20251201T070000
DTEND;TZID=America/Denver:20251201T080000
DTSTAMP:20260421T084822
CREATED:20251121T191934Z
LAST-MODIFIED:20251121T192026Z
UID:13066-1764572400-1764576000@www.activa.edu.mx
SUMMARY:Juntas entrega de calificaciones 3° y 4° | Primaria
DESCRIPTION:4°P: 7:00 am | Salón de 4°P\n3°P: 7:30 am | Salón de 3°P
URL:https://www.activa.edu.mx/event/juntas-entrega-de-calificaciones-primaria-8/
CATEGORIES:Primaria
END:VEVENT
BEGIN:VEVENT
DTSTART;VALUE=DATE:20251128
DTEND;VALUE=DATE:20251129
DTSTAMP:20260421T084822
CREATED:20250821T184230Z
LAST-MODIFIED:20250821T184230Z
UID:12186-1764288000-1764374399@www.activa.edu.mx
SUMMARY:CTE | No hay clases
DESCRIPTION:
URL:https://www.activa.edu.mx/event/cte-no-hay-clases-13/
END:VEVENT
BEGIN:VEVENT
DTSTART;TZID=America/Denver:20251127T070000
DTEND;TZID=America/Denver:20251127T080000
DTSTAMP:20260421T084822
CREATED:20250821T184007Z
LAST-MODIFIED:20251121T192132Z
UID:12179-1764226800-1764230400@www.activa.edu.mx
SUMMARY:Juntas entrega de calificaciones 1° y 6° | Primaria
DESCRIPTION:6°P: 7:00 am | Salón de 6°P\n1°P: 7:30 am | Salón de usos múltiples
URL:https://www.activa.edu.mx/event/juntas-entrega-de-calificaciones-primaria-6/
END:VEVENT
BEGIN:VEVENT
DTSTART;TZID=America/Denver:20251126T070000
DTEND;TZID=America/Denver:20251126T080000
DTSTAMP:20260421T084822
CREATED:20250821T184036Z
LAST-MODIFIED:20251121T192202Z
UID:12182-1764140400-1764144000@www.activa.edu.mx
SUMMARY:Juntas entrega de calificaciones 2° y 5° | Primaria
DESCRIPTION:5°P: 7:00 am | Salón de usos múltiples\n2°P: 7:30 am | Salón 2°P
URL:https://www.activa.edu.mx/event/juntas-entrega-de-calificaciones-primaria-7/
END:VEVENT
BEGIN:VEVENT
DTSTART;TZID=America/Denver:20251125T163000
DTEND;TZID=America/Denver:20251125T183000
DTSTAMP:20260421T084822
CREATED:20251002T193335Z
LAST-MODIFIED:20251002T193335Z
UID:12724-1764088200-1764095400@www.activa.edu.mx
SUMMARY:Taller “Padres Activos y Eficaces” | UFA
DESCRIPTION:Sesión 7/8
URL:https://www.activa.edu.mx/event/taller-padres-activos-y-eficaces-ufa-7/
CATEGORIES:UFA
END:VEVENT
BEGIN:VEVENT
DTSTART;TZID=America/Denver:20251125T070000
DTEND;TZID=America/Denver:20251125T080000
DTSTAMP:20260421T084822
CREATED:20250821T183939Z
LAST-MODIFIED:20251121T191400Z
UID:12177-1764054000-1764057600@www.activa.edu.mx
SUMMARY:Juntas entrega de calificaciones | Secundaria
DESCRIPTION:1°S:  7:00 am | Salón 3\n2°S: 7:00 am | Salón 1\n3°S: 7:00 am | Salón 2
URL:https://www.activa.edu.mx/event/juntas-entrega-de-calificaciones-secundaria-3/
END:VEVENT
BEGIN:VEVENT
DTSTART;VALUE=DATE:20251124
DTEND;VALUE=DATE:20251128
DTSTAMP:20260421T084822
CREATED:20250821T184202Z
LAST-MODIFIED:20250821T184202Z
UID:12184-1763942400-1764287999@www.activa.edu.mx
SUMMARY:Semana de solidaridad 🫶 Asilo de ancianos
DESCRIPTION:
URL:https://www.activa.edu.mx/event/semana-de-solidaridad-%f0%9f%ab%b6-asilo-de-ancianos/
END:VEVENT
BEGIN:VEVENT
DTSTART;VALUE=DATE:20251120
DTEND;VALUE=DATE:20251121
DTSTAMP:20260421T084822
CREATED:20250821T183146Z
LAST-MODIFIED:20250821T183146Z
UID:12175-1763596800-1763683199@www.activa.edu.mx
SUMMARY:♻️ Acopio (recibe 1°S)
DESCRIPTION:
URL:https://www.activa.edu.mx/event/%e2%99%bb%ef%b8%8f-acopio-recibe-1s-2/
END:VEVENT
BEGIN:VEVENT
DTSTART;VALUE=DATE:20251119
DTEND;VALUE=DATE:20251120
DTSTAMP:20260421T084822
CREATED:20250821T183120Z
LAST-MODIFIED:20250821T183120Z
UID:12173-1763510400-1763596799@www.activa.edu.mx
SUMMARY:♻️ Acopio Kínder
DESCRIPTION:
URL:https://www.activa.edu.mx/event/%e2%99%bb%ef%b8%8f-acopio-kinder-11/
END:VEVENT
END:VCALENDAR