BEGIN:VCALENDAR
VERSION:2.0
PRODID:-//Escuela Activa Integral A.C. - ECPv6.15.20//NONSGML v1.0//EN
CALSCALE:GREGORIAN
METHOD:PUBLISH
X-WR-CALNAME:Escuela Activa Integral A.C.
X-ORIGINAL-URL:https://www.activa.edu.mx
X-WR-CALDESC:Eventos para Escuela Activa Integral A.C.
REFRESH-INTERVAL;VALUE=DURATION:PT1H
X-Robots-Tag:noindex
X-PUBLISHED-TTL:PT1H
BEGIN:VTIMEZONE
TZID:America/Denver
BEGIN:DAYLIGHT
TZOFFSETFROM:-0700
TZOFFSETTO:-0600
TZNAME:MDT
DTSTART:20250309T090000
END:DAYLIGHT
BEGIN:STANDARD
TZOFFSETFROM:-0600
TZOFFSETTO:-0700
TZNAME:MST
DTSTART:20251102T080000
END:STANDARD
BEGIN:DAYLIGHT
TZOFFSETFROM:-0700
TZOFFSETTO:-0600
TZNAME:MDT
DTSTART:20260308T090000
END:DAYLIGHT
BEGIN:STANDARD
TZOFFSETFROM:-0600
TZOFFSETTO:-0700
TZNAME:MST
DTSTART:20261101T080000
END:STANDARD
BEGIN:DAYLIGHT
TZOFFSETFROM:-0700
TZOFFSETTO:-0600
TZNAME:MDT
DTSTART:20270314T090000
END:DAYLIGHT
BEGIN:STANDARD
TZOFFSETFROM:-0600
TZOFFSETTO:-0700
TZNAME:MST
DTSTART:20271107T080000
END:STANDARD
END:VTIMEZONE
BEGIN:VEVENT
DTSTART;TZID=America/Denver:20260306T153000
DTEND;TZID=America/Denver:20260306T153000
DTSTAMP:20260421T042223
CREATED:20250901T201941Z
LAST-MODIFIED:20260302T173845Z
UID:12312-1772811000-1772811000@www.activa.edu.mx
SUMMARY:Campamento ⛺ 3°K
DESCRIPTION:
URL:https://www.activa.edu.mx/event/campamento-3k-%e2%9b%ba/
END:VEVENT
BEGIN:VEVENT
DTSTART;VALUE=DATE:20260306
DTEND;VALUE=DATE:20260307
DTSTAMP:20260421T042223
CREATED:20260302T210058Z
LAST-MODIFIED:20260302T210058Z
UID:14159-1772755200-1772841599@www.activa.edu.mx
SUMMARY:Convivencia 3°S
DESCRIPTION:
URL:https://www.activa.edu.mx/event/convivencia-3s/
END:VEVENT
BEGIN:VEVENT
DTSTART;TZID=America/Denver:20260305T173000
DTEND;TZID=America/Denver:20260305T173000
DTSTAMP:20260421T042223
CREATED:20260302T182542Z
LAST-MODIFIED:20260302T182542Z
UID:14135-1772731800-1772731800@www.activa.edu.mx
SUMMARY:Inauguración Copa Activa de Basquetbol
DESCRIPTION:
URL:https://www.activa.edu.mx/event/inauguracion-copa-activa-de-basquetbol/
END:VEVENT
BEGIN:VEVENT
DTSTART;VALUE=DATE:20260305
DTEND;VALUE=DATE:20260306
DTSTAMP:20260421T042223
CREATED:20260302T210228Z
LAST-MODIFIED:20260302T210332Z
UID:14161-1772668800-1772755199@www.activa.edu.mx
SUMMARY:Convivencia 6°P
DESCRIPTION:
URL:https://www.activa.edu.mx/event/convivencia-5p/
END:VEVENT
BEGIN:VEVENT
DTSTART;VALUE=DATE:20260304
DTEND;VALUE=DATE:20260309
DTSTAMP:20260421T042223
CREATED:20250901T201537Z
LAST-MODIFIED:20260302T182413Z
UID:12303-1772582400-1773014399@www.activa.edu.mx
SUMMARY:Copa Activa de Básquetbol 🏆🏀
DESCRIPTION:
URL:https://www.activa.edu.mx/event/copa-activa-basquetbol-%f0%9f%8f%86%f0%9f%8f%80/
END:VEVENT
BEGIN:VEVENT
DTSTART;VALUE=DATE:20260302
DTEND;VALUE=DATE:20260307
DTSTAMP:20260421T042223
CREATED:20250901T201336Z
LAST-MODIFIED:20250901T201336Z
UID:12301-1772409600-1772841599@www.activa.edu.mx
SUMMARY:Trimestral 2 | Kínder\, Primaria y Secundaria
DESCRIPTION:
URL:https://www.activa.edu.mx/event/trimestral-2-kinder-primaria-y-secundaria-2/
END:VEVENT
BEGIN:VEVENT
DTSTART;VALUE=DATE:20260227
DTEND;VALUE=DATE:20260228
DTSTAMP:20260421T042223
CREATED:20250901T201130Z
LAST-MODIFIED:20250901T201130Z
UID:12297-1772150400-1772236799@www.activa.edu.mx
SUMMARY:CTE | No hay clases
DESCRIPTION:
URL:https://www.activa.edu.mx/event/cte-no-hay-clases-15/
END:VEVENT
BEGIN:VEVENT
DTSTART;VALUE=DATE:20260226
DTEND;VALUE=DATE:20260227
DTSTAMP:20260421T042223
CREATED:20260203T210552Z
LAST-MODIFIED:20260203T210552Z
UID:13663-1772064000-1772150399@www.activa.edu.mx
SUMMARY:“La importancia de las mascotas” | Socios de Aprendizaje
DESCRIPTION:Dirigida a alumnos de 1°\, 2° y 3° de Kínder \nImpartida por Antemio Castro\, Abuelo Activo
URL:https://www.activa.edu.mx/event/la-importancia-de-las-mascotas-socios-de-aprendizaje/
END:VEVENT
BEGIN:VEVENT
DTSTART;VALUE=DATE:20260226
DTEND;VALUE=DATE:20260227
DTSTAMP:20260421T042223
CREATED:20260203T210505Z
LAST-MODIFIED:20260203T210505Z
UID:13661-1772064000-1772150399@www.activa.edu.mx
SUMMARY:"Arte urbano y muralismo" | Socios de Aprendizaje
DESCRIPTION:Dirigida a alumnos de 3°\, 4° y 5° de Primaria \nImpartida por Christian Vaca\, Papá Activo
URL:https://www.activa.edu.mx/event/arte-urbano-y-muralismo-socios-de-aprendizaje/
END:VEVENT
BEGIN:VEVENT
DTSTART;TZID=America/Denver:20260225T090000
DTEND;TZID=America/Denver:20260225T090000
DTSTAMP:20260421T042223
CREATED:20250901T201105Z
LAST-MODIFIED:20250903T174040Z
UID:12295-1772010000-1772010000@www.activa.edu.mx
SUMMARY:🇲🇽 Homenaje 2°K
DESCRIPTION:
URL:https://www.activa.edu.mx/event/%f0%9f%87%b2%f0%9f%87%bd-homenaje-2k/
END:VEVENT
BEGIN:VEVENT
DTSTART;TZID=America/Denver:20260224T093000
DTEND;TZID=America/Denver:20260224T093000
DTSTAMP:20260421T042223
CREATED:20250901T201033Z
LAST-MODIFIED:20260203T210038Z
UID:12293-1771925400-1771925400@www.activa.edu.mx
SUMMARY:🇲🇽 Izamiento de bandera
DESCRIPTION:
URL:https://www.activa.edu.mx/event/%f0%9f%87%b2%f0%9f%87%bd-izamiento-de-bandera-915-2/
END:VEVENT
BEGIN:VEVENT
DTSTART;VALUE=DATE:20260223
DTEND;VALUE=DATE:20260227
DTSTAMP:20260421T042223
CREATED:20260203T205725Z
LAST-MODIFIED:20260203T205725Z
UID:13654-1771804800-1772150399@www.activa.edu.mx
SUMMARY:Proyecto "Pequeño empresario" | Primaria
DESCRIPTION:
URL:https://www.activa.edu.mx/event/proyecto-pequeno-empresario-primaria/
CATEGORIES:Primaria
END:VEVENT
BEGIN:VEVENT
DTSTART;VALUE=DATE:20260223
DTEND;VALUE=DATE:20260227
DTSTAMP:20260421T042223
CREATED:20250901T201255Z
LAST-MODIFIED:20250901T201255Z
UID:12299-1771804800-1772150399@www.activa.edu.mx
SUMMARY:Trimestral 2 | Kínder\, Primaria y Secundaria
DESCRIPTION:
URL:https://www.activa.edu.mx/event/trimestral-2-kinder-primaria-y-secundaria/
END:VEVENT
BEGIN:VEVENT
DTSTART;VALUE=DATE:20260223
DTEND;VALUE=DATE:20260224
DTSTAMP:20260421T042223
CREATED:20260203T210414Z
LAST-MODIFIED:20260203T210414Z
UID:13659-1771804800-1771891199@www.activa.edu.mx
SUMMARY:"Yoga para niños" | Socios de Aprendizaje
DESCRIPTION:Dirigida a alumnos de 2° de Primaria \nImpartida por Ana Lucía Cañedo\, Mamá Activa 
URL:https://www.activa.edu.mx/event/yoga-para-ninos-socios-de-aprendizaje/
END:VEVENT
BEGIN:VEVENT
DTSTART;TZID=America/Denver:20260219T150000
DTEND;TZID=America/Denver:20260219T150000
DTSTAMP:20260421T042223
CREATED:20260203T205507Z
LAST-MODIFIED:20260203T205507Z
UID:13652-1771513200-1771513200@www.activa.edu.mx
SUMMARY:Biblio-rally
DESCRIPTION:
URL:https://www.activa.edu.mx/event/biblio-rally-3/
CATEGORIES:Primaria,Secundaria
END:VEVENT
BEGIN:VEVENT
DTSTART;TZID=America/Denver:20260217T163000
DTEND;TZID=America/Denver:20260217T173000
DTSTAMP:20260421T042223
CREATED:20250901T200906Z
LAST-MODIFIED:20250901T200941Z
UID:12290-1771345800-1771349400@www.activa.edu.mx
SUMMARY:Café literario ☕📖
DESCRIPTION:
URL:https://www.activa.edu.mx/event/bibliorally/
END:VEVENT
BEGIN:VEVENT
DTSTART;VALUE=DATE:20260217
DTEND;VALUE=DATE:20260221
DTSTAMP:20260421T042223
CREATED:20250901T200806Z
LAST-MODIFIED:20250901T200806Z
UID:12288-1771286400-1771631999@www.activa.edu.mx
SUMMARY:Semana Cultural
DESCRIPTION:
URL:https://www.activa.edu.mx/event/semana-cultural/
END:VEVENT
BEGIN:VEVENT
DTSTART;VALUE=DATE:20260213
DTEND;VALUE=DATE:20260214
DTSTAMP:20260421T042223
CREATED:20250901T200739Z
LAST-MODIFIED:20250901T200739Z
UID:12286-1770940800-1771027199@www.activa.edu.mx
SUMMARY:Fiesta de San Valentín
DESCRIPTION:
URL:https://www.activa.edu.mx/event/fiesta-de-san-valentin/
END:VEVENT
BEGIN:VEVENT
DTSTART;VALUE=DATE:20260213
DTEND;VALUE=DATE:20260214
DTSTAMP:20260421T042223
CREATED:20250901T200720Z
LAST-MODIFIED:20250901T200720Z
UID:12283-1770940800-1771027199@www.activa.edu.mx
SUMMARY:Picnic Kínder
DESCRIPTION:
URL:https://www.activa.edu.mx/event/picnic-kinder/
END:VEVENT
BEGIN:VEVENT
DTSTART;VALUE=DATE:20260212
DTEND;VALUE=DATE:20260213
DTSTAMP:20260421T042223
CREATED:20260203T210315Z
LAST-MODIFIED:20260203T210618Z
UID:13657-1770854400-1770940799@www.activa.edu.mx
SUMMARY:“English and its positive impact on my life” | Socios de Aprendizaje
DESCRIPTION:Dirigida a alumnos de 1° y 2° de Secundaria \nImpartida por Carolina Durán\, Mamá Activa
URL:https://www.activa.edu.mx/event/platica-english-and-its-positive-impact-on-my-life-socios-de-aprendizaje/
CATEGORIES:Secundaria
END:VEVENT
BEGIN:VEVENT
DTSTART;VALUE=DATE:20260212
DTEND;VALUE=DATE:20260213
DTSTAMP:20260421T042223
CREATED:20250901T200613Z
LAST-MODIFIED:20250901T200613Z
UID:12279-1770854400-1770940799@www.activa.edu.mx
SUMMARY:♻️ Acopio (recibe 4°P)
DESCRIPTION:
URL:https://www.activa.edu.mx/event/%e2%99%bb%ef%b8%8f-acopio-recibe-4p-2/
END:VEVENT
BEGIN:VEVENT
DTSTART;VALUE=DATE:20260211
DTEND;VALUE=DATE:20260213
DTSTAMP:20260421T042223
CREATED:20250901T200647Z
LAST-MODIFIED:20260203T205322Z
UID:12281-1770768000-1770940799@www.activa.edu.mx
SUMMARY:Convivencias Kínder
DESCRIPTION:
URL:https://www.activa.edu.mx/event/convivencias-kinder-y-secundaria-2/
END:VEVENT
BEGIN:VEVENT
DTSTART;VALUE=DATE:20260211
DTEND;VALUE=DATE:20260212
DTSTAMP:20260421T042223
CREATED:20250901T200551Z
LAST-MODIFIED:20250901T200551Z
UID:12277-1770768000-1770854399@www.activa.edu.mx
SUMMARY:♻️ Acopio Kínder
DESCRIPTION:
URL:https://www.activa.edu.mx/event/%e2%99%bb%ef%b8%8f-acopio-kinder-14/
END:VEVENT
BEGIN:VEVENT
DTSTART;VALUE=DATE:20260209
DTEND;VALUE=DATE:20260214
DTSTAMP:20260421T042223
CREATED:20250901T195318Z
LAST-MODIFIED:20260203T205248Z
UID:12275-1770595200-1771027199@www.activa.edu.mx
SUMMARY:Semana de Solidaridad 🫶 Pañatón
DESCRIPTION:
URL:https://www.activa.edu.mx/event/semana-de-solidaridad-%f0%9f%ab%b6-panaton/
END:VEVENT
BEGIN:VEVENT
DTSTART;VALUE=DATE:20260209
DTEND;VALUE=DATE:20260214
DTSTAMP:20260421T042223
CREATED:20250901T174752Z
LAST-MODIFIED:20250901T174752Z
UID:12261-1770595200-1771027199@www.activa.edu.mx
SUMMARY:Copa Activa de Fútbol 🏆⚽
DESCRIPTION:
URL:https://www.activa.edu.mx/event/copa-activa-de-futbol-%f0%9f%8f%86%e2%9a%bd-5/
END:VEVENT
BEGIN:VEVENT
DTSTART;VALUE=DATE:20260204
DTEND;VALUE=DATE:20260207
DTSTAMP:20260421T042223
CREATED:20250901T195224Z
LAST-MODIFIED:20260203T205208Z
UID:12273-1770163200-1770422399@www.activa.edu.mx
SUMMARY:Convivencias Kínder y Secundaria
DESCRIPTION:
URL:https://www.activa.edu.mx/event/convivencias-kinder-y-secundaria/
END:VEVENT
BEGIN:VEVENT
DTSTART;VALUE=DATE:20260203
DTEND;VALUE=DATE:20260207
DTSTAMP:20260421T042223
CREATED:20250901T174733Z
LAST-MODIFIED:20250901T174733Z
UID:12259-1770076800-1770422399@www.activa.edu.mx
SUMMARY:Copa Activa de Fútbol 🏆⚽
DESCRIPTION:
URL:https://www.activa.edu.mx/event/copa-activa-de-futbol-%f0%9f%8f%86%e2%9a%bd-4/
END:VEVENT
BEGIN:VEVENT
DTSTART;VALUE=DATE:20260202
DTEND;VALUE=DATE:20260203
DTSTAMP:20260421T042223
CREATED:20250901T174816Z
LAST-MODIFIED:20250901T174816Z
UID:12263-1769990400-1770076799@www.activa.edu.mx
SUMMARY:ASUETO
DESCRIPTION:
URL:https://www.activa.edu.mx/event/asueto-14/
END:VEVENT
BEGIN:VEVENT
DTSTART;VALUE=DATE:20260130
DTEND;VALUE=DATE:20260131
DTSTAMP:20260421T042223
CREATED:20250901T174502Z
LAST-MODIFIED:20250901T174502Z
UID:12255-1769731200-1769817599@www.activa.edu.mx
SUMMARY:CTE | No hay clases
DESCRIPTION:
URL:https://www.activa.edu.mx/event/cte-no-hay-clases-14/
END:VEVENT
BEGIN:VEVENT
DTSTART;TZID=America/Denver:20260128T090000
DTEND;TZID=America/Denver:20260128T100000
DTSTAMP:20260421T042223
CREATED:20250901T174440Z
LAST-MODIFIED:20260112T185315Z
UID:12253-1769590800-1769594400@www.activa.edu.mx
SUMMARY:Matrogimnasia 1° Kínder
DESCRIPTION:
URL:https://www.activa.edu.mx/event/matrogimnasia-kinder-6/
END:VEVENT
END:VCALENDAR