BEGIN:VCALENDAR
VERSION:2.0
PRODID:-//Escuela Activa Integral A.C. - ECPv6.15.20//NONSGML v1.0//EN
CALSCALE:GREGORIAN
METHOD:PUBLISH
X-ORIGINAL-URL:https://www.activa.edu.mx
X-WR-CALDESC:Eventos para Escuela Activa Integral A.C.
REFRESH-INTERVAL;VALUE=DURATION:PT1H
X-Robots-Tag:noindex
X-PUBLISHED-TTL:PT1H
BEGIN:VTIMEZONE
TZID:America/Denver
BEGIN:DAYLIGHT
TZOFFSETFROM:-0700
TZOFFSETTO:-0600
TZNAME:MDT
DTSTART:20230312T090000
END:DAYLIGHT
BEGIN:STANDARD
TZOFFSETFROM:-0600
TZOFFSETTO:-0700
TZNAME:MST
DTSTART:20231105T080000
END:STANDARD
BEGIN:DAYLIGHT
TZOFFSETFROM:-0700
TZOFFSETTO:-0600
TZNAME:MDT
DTSTART:20240310T090000
END:DAYLIGHT
BEGIN:STANDARD
TZOFFSETFROM:-0600
TZOFFSETTO:-0700
TZNAME:MST
DTSTART:20241103T080000
END:STANDARD
BEGIN:DAYLIGHT
TZOFFSETFROM:-0700
TZOFFSETTO:-0600
TZNAME:MDT
DTSTART:20250309T090000
END:DAYLIGHT
BEGIN:STANDARD
TZOFFSETFROM:-0600
TZOFFSETTO:-0700
TZNAME:MST
DTSTART:20251102T080000
END:STANDARD
END:VTIMEZONE
BEGIN:VEVENT
DTSTART;TZID=America/Denver:20240509T070000
DTEND;TZID=America/Denver:20240509T080000
DTSTAMP:20260422T170230
CREATED:20240125T164630Z
LAST-MODIFIED:20240125T164630Z
UID:3376-1715238000-1715241600@www.activa.edu.mx
SUMMARY:♻️ Acopio | Primaria y Secundaria
DESCRIPTION:Trae todo limpio\, seco y separado\n				\n			\n				\n			\n				\n				No recibimos
URL:https://www.activa.edu.mx/event/%e2%99%bb%ef%b8%8f-acopio-primaria-y-secundaria-4/
CATEGORIES:Primaria,Secundaria
END:VEVENT
BEGIN:VEVENT
DTSTART;TZID=America/Denver:20240508T080000
DTEND;TZID=America/Denver:20240508T090000
DTSTAMP:20260422T170230
CREATED:20240125T164552Z
LAST-MODIFIED:20240125T164552Z
UID:3374-1715155200-1715158800@www.activa.edu.mx
SUMMARY:♻️ Acopio | Kínder
DESCRIPTION:Trae todo limpio\, seco y separado\n				\n			\n				\n			\n				\n				No recibimos
URL:https://www.activa.edu.mx/event/%e2%99%bb%ef%b8%8f-acopio-kinder-4/
CATEGORIES:Kínder
END:VEVENT
BEGIN:VEVENT
DTSTART;VALUE=DATE:20240503
DTEND;VALUE=DATE:20240504
DTSTAMP:20260422T170230
CREATED:20240125T170005Z
LAST-MODIFIED:20240125T170005Z
UID:3401-1714694400-1714780799@www.activa.edu.mx
SUMMARY:Tarde de Mamás Activas | SPF
DESCRIPTION:Se suspenden actividades vespertinas
URL:https://www.activa.edu.mx/event/tarde-de-mamas-activas-spf/
CATEGORIES:SPF
END:VEVENT
BEGIN:VEVENT
DTSTART;VALUE=DATE:20240501
DTEND;VALUE=DATE:20240502
DTSTAMP:20260422T170230
CREATED:20240125T165923Z
LAST-MODIFIED:20240125T165923Z
UID:3399-1714521600-1714607999@www.activa.edu.mx
SUMMARY:ASUETO
DESCRIPTION:
URL:https://www.activa.edu.mx/event/asueto-3/
CATEGORIES:General
END:VEVENT
BEGIN:VEVENT
DTSTART;VALUE=DATE:20240429
DTEND;VALUE=DATE:20240501
DTSTAMP:20260422T170230
CREATED:20240125T165858Z
LAST-MODIFIED:20240125T165858Z
UID:3397-1714348800-1714521599@www.activa.edu.mx
SUMMARY:Festejos del Día del Niño 🎉
DESCRIPTION:Kínder y Primaria
URL:https://www.activa.edu.mx/event/festejos-del-dia-del-nino-%f0%9f%8e%89/
CATEGORIES:Kínder,Primaria
END:VEVENT
BEGIN:VEVENT
DTSTART;VALUE=DATE:20240426
DTEND;VALUE=DATE:20240427
DTSTAMP:20260422T170230
CREATED:20240125T165807Z
LAST-MODIFIED:20240125T165807Z
UID:3395-1714089600-1714175999@www.activa.edu.mx
SUMMARY:CTE | No hay clases
DESCRIPTION:
URL:https://www.activa.edu.mx/event/cte-no-hay-clases-2/
CATEGORIES:General
END:VEVENT
BEGIN:VEVENT
DTSTART;TZID=America/Denver:20240422T070000
DTEND;TZID=America/Denver:20240425T070000
DTSTAMP:20260422T170230
CREATED:20240125T165745Z
LAST-MODIFIED:20240125T165745Z
UID:3393-1713769200-1714028400@www.activa.edu.mx
SUMMARY:Evaluaciones III trim. - 1° Parcial | Kínder\, Primaria y Secundaria
DESCRIPTION:
URL:https://www.activa.edu.mx/event/evaluaciones-iii-trim-1-parcial-kinder-primaria-y-secundaria/
CATEGORIES:Kínder,Primaria,Secundaria
END:VEVENT
BEGIN:VEVENT
DTSTART;TZID=America/Denver:20240421T100000
DTEND;TZID=America/Denver:20240421T130000
DTSTAMP:20260422T170230
CREATED:20240125T165338Z
LAST-MODIFIED:20240319T180031Z
UID:3384-1713693600-1713704400@www.activa.edu.mx
SUMMARY:Modelado en Arena
DESCRIPTION:
URL:https://www.activa.edu.mx/event/modelado-en-arena/
LOCATION:Altata
CATEGORIES:General
END:VEVENT
BEGIN:VEVENT
DTSTART;TZID=America/Denver:20240418T090000
DTEND;TZID=America/Denver:20240418T093000
DTSTAMP:20260422T170230
CREATED:20240125T165630Z
LAST-MODIFIED:20240125T165630Z
UID:3391-1713430800-1713432600@www.activa.edu.mx
SUMMARY:Taller Coreográfico | E.T.\, 1°K y 2°P
DESCRIPTION:
URL:https://www.activa.edu.mx/event/taller-coreografico-e-t-1k-y-2p/
CATEGORIES:General
END:VEVENT
BEGIN:VEVENT
DTSTART;VALUE=DATE:20240416
DTEND;VALUE=DATE:20240419
DTSTAMP:20260422T170230
CREATED:20240125T165550Z
LAST-MODIFIED:20240125T165550Z
UID:3389-1713225600-1713484799@www.activa.edu.mx
SUMMARY:Juntas de entregas de calificaciones | Primaria
DESCRIPTION:
URL:https://www.activa.edu.mx/event/juntas-de-entregas-de-calificaciones-primaria/
CATEGORIES:Primaria
END:VEVENT
BEGIN:VEVENT
DTSTART;TZID=America/Denver:20240411T070000
DTEND;TZID=America/Denver:20240411T080000
DTSTAMP:20260422T170230
CREATED:20240125T164012Z
LAST-MODIFIED:20240125T164012Z
UID:3372-1712818800-1712822400@www.activa.edu.mx
SUMMARY:♻️ Acopio | Primaria y Secundaria
DESCRIPTION:Trae todo limpio\, seco y separado\n				\n			\n				\n			\n				\n				No recibimos
URL:https://www.activa.edu.mx/event/%e2%99%bb%ef%b8%8f-acopio-primaria-y-secundaria-3/
CATEGORIES:Primaria,Secundaria
END:VEVENT
BEGIN:VEVENT
DTSTART;TZID=America/Denver:20240410T080000
DTEND;TZID=America/Denver:20240410T090000
DTSTAMP:20260422T170230
CREATED:20240125T163925Z
LAST-MODIFIED:20240125T163925Z
UID:3370-1712736000-1712739600@www.activa.edu.mx
SUMMARY:♻️ Acopio | Kínder
DESCRIPTION:Trae todo limpio\, seco y separado\n				\n			\n				\n			\n				\n				No recibimos
URL:https://www.activa.edu.mx/event/%e2%99%bb%ef%b8%8f-acopio-kinder-3/
CATEGORIES:Kínder
END:VEVENT
BEGIN:VEVENT
DTSTART;TZID=America/Denver:20240409T163000
DTEND;TZID=America/Denver:20240410T163000
DTSTAMP:20260422T170230
CREATED:20240125T163830Z
LAST-MODIFIED:20240125T163830Z
UID:3367-1712680200-1712766600@www.activa.edu.mx
SUMMARY:Juntas de entregas de calificaciones | Secundaria
DESCRIPTION:
URL:https://www.activa.edu.mx/event/juntas-de-entregas-de-calificaciones-secundaria/
CATEGORIES:Secundaria
END:VEVENT
BEGIN:VEVENT
DTSTART;TZID=America/Denver:20240408T070000
DTEND;TZID=America/Denver:20240408T070000
DTSTAMP:20260422T170230
CREATED:20240125T163021Z
LAST-MODIFIED:20240125T163021Z
UID:3365-1712559600-1712559600@www.activa.edu.mx
SUMMARY:Regreso a clases
DESCRIPTION:
URL:https://www.activa.edu.mx/event/regreso-a-clases/
CATEGORIES:General
END:VEVENT
BEGIN:VEVENT
DTSTART;VALUE=DATE:20240323
DTEND;VALUE=DATE:20240408
DTSTAMP:20260422T170230
CREATED:20240125T161630Z
LAST-MODIFIED:20240125T161630Z
UID:3363-1711152000-1712534399@www.activa.edu.mx
SUMMARY:Vacaciones
DESCRIPTION:
URL:https://www.activa.edu.mx/event/vacaciones/
CATEGORIES:General
END:VEVENT
BEGIN:VEVENT
DTSTART;TZID=America/Denver:20240322T090000
DTEND;TZID=America/Denver:20240322T093000
DTSTAMP:20260422T170230
CREATED:20240125T161516Z
LAST-MODIFIED:20240125T161516Z
UID:3361-1711098000-1711099800@www.activa.edu.mx
SUMMARY:Homenaje 1°K 🇲🇽
DESCRIPTION:
URL:https://www.activa.edu.mx/event/homenaje-1k-%f0%9f%87%b2%f0%9f%87%bd/
CATEGORIES:Kínder
END:VEVENT
BEGIN:VEVENT
DTSTART;TZID=America/Denver:20240319T070000
DTEND;TZID=America/Denver:20240319T073000
DTSTAMP:20260422T170230
CREATED:20240125T161412Z
LAST-MODIFIED:20240125T161412Z
UID:3357-1710831600-1710833400@www.activa.edu.mx
SUMMARY:Homenaje 2°P 🇲🇽
DESCRIPTION:
URL:https://www.activa.edu.mx/event/homenaje-2p-%f0%9f%87%b2%f0%9f%87%bd/
CATEGORIES:Primaria
END:VEVENT
BEGIN:VEVENT
DTSTART;VALUE=DATE:20240318
DTEND;VALUE=DATE:20240323
DTSTAMP:20260422T170230
CREATED:20240125T161450Z
LAST-MODIFIED:20240125T161450Z
UID:3359-1710720000-1711151999@www.activa.edu.mx
SUMMARY:Viajes largos Primaria y Secundaria
DESCRIPTION:
URL:https://www.activa.edu.mx/event/viajes-largos-primaria-y-secundaria/
CATEGORIES:Primaria,Secundaria
END:VEVENT
BEGIN:VEVENT
DTSTART;VALUE=DATE:20240318
DTEND;VALUE=DATE:20240319
DTSTAMP:20260422T170230
CREATED:20240125T161341Z
LAST-MODIFIED:20240125T161341Z
UID:3355-1710720000-1710806399@www.activa.edu.mx
SUMMARY:ASUETO
DESCRIPTION:
URL:https://www.activa.edu.mx/event/asueto-2/
CATEGORIES:General
END:VEVENT
BEGIN:VEVENT
DTSTART;TZID=America/Denver:20240307T070000
DTEND;TZID=America/Denver:20240307T080000
DTSTAMP:20260422T170230
CREATED:20240125T161243Z
LAST-MODIFIED:20240125T161243Z
UID:3353-1709794800-1709798400@www.activa.edu.mx
SUMMARY:♻️ Acopio | Primaria y Secundaria
DESCRIPTION:Trae todo limpio\, seco y separado\n				\n			\n				\n			\n				\n				No recibimos
URL:https://www.activa.edu.mx/event/%e2%99%bb%ef%b8%8f-acopio-primaria-y-secundaria-2/
CATEGORIES:Primaria,Secundaria
END:VEVENT
BEGIN:VEVENT
DTSTART;TZID=America/Denver:20240306T080000
DTEND;TZID=America/Denver:20240306T090000
DTSTAMP:20260422T170230
CREATED:20240125T161204Z
LAST-MODIFIED:20240125T161204Z
UID:3351-1709712000-1709715600@www.activa.edu.mx
SUMMARY:♻️ Acopio | Kínder
DESCRIPTION:Trae todo limpio\, seco y separado\n				\n			\n				\n			\n				\n				No recibimos
URL:https://www.activa.edu.mx/event/%e2%99%bb%ef%b8%8f-acopio-kinder-2/
CATEGORIES:Kínder
END:VEVENT
BEGIN:VEVENT
DTSTART;TZID=America/Denver:20240304T070000
DTEND;TZID=America/Denver:20240308T070000
DTSTAMP:20260422T170230
CREATED:20240125T160957Z
LAST-MODIFIED:20240125T160957Z
UID:3349-1709535600-1709881200@www.activa.edu.mx
SUMMARY:Evaluaciones trimestrales | Kínder\, Primaria y Secundaria
DESCRIPTION:
URL:https://www.activa.edu.mx/event/evaluaciones-trimestrales-kinder-primaria-y-secundaria-2/
CATEGORIES:Kínder,Primaria,Secundaria
END:VEVENT
BEGIN:VEVENT
DTSTART;TZID=America/Denver:20240227T090000
DTEND;TZID=America/Denver:20240227T093000
DTSTAMP:20260422T170230
CREATED:20240125T160550Z
LAST-MODIFIED:20240125T160550Z
UID:3341-1709024400-1709026200@www.activa.edu.mx
SUMMARY:Homenaje 2°K 🇲🇽
DESCRIPTION:
URL:https://www.activa.edu.mx/event/homenaje-2k-%f0%9f%87%b2%f0%9f%87%bd/
CATEGORIES:Kínder
END:VEVENT
BEGIN:VEVENT
DTSTART;TZID=America/Denver:20240226T073000
DTEND;TZID=America/Denver:20240226T080000
DTSTAMP:20260422T170230
CREATED:20240125T160423Z
LAST-MODIFIED:20240125T160423Z
UID:3339-1708932600-1708934400@www.activa.edu.mx
SUMMARY:Homenaje 3°P 🇲🇽
DESCRIPTION:
URL:https://www.activa.edu.mx/event/homenaje-3p-%f0%9f%87%b2%f0%9f%87%bd/
CATEGORIES:Primaria
END:VEVENT
BEGIN:VEVENT
DTSTART;TZID=America/Denver:20240226T070000
DTEND;TZID=America/Denver:20240301T070000
DTSTAMP:20260422T170230
CREATED:20240125T160825Z
LAST-MODIFIED:20240125T161018Z
UID:3347-1708930800-1709276400@www.activa.edu.mx
SUMMARY:Evaluaciones trimestrales | Kínder\, Primaria y Secundaria
DESCRIPTION:
URL:https://www.activa.edu.mx/event/evaluaciones-trimestrales-kinder-primaria-y-secundaria/
CATEGORIES:Kínder,Primaria,Secundaria
END:VEVENT
BEGIN:VEVENT
DTSTART;TZID=America/Denver:20240222T150000
DTEND;TZID=America/Denver:20240222T170000
DTSTAMP:20260422T170230
CREATED:20240125T160315Z
LAST-MODIFIED:20240125T160315Z
UID:3335-1708614000-1708621200@www.activa.edu.mx
SUMMARY:Biblio-rally
DESCRIPTION:
URL:https://www.activa.edu.mx/event/biblio-rally/
END:VEVENT
BEGIN:VEVENT
DTSTART;TZID=America/Denver:20240221T163000
DTEND;TZID=America/Denver:20240221T180000
DTSTAMP:20260422T170230
CREATED:20240125T160243Z
LAST-MODIFIED:20240125T160243Z
UID:3333-1708533000-1708538400@www.activa.edu.mx
SUMMARY:Café literario para personal Activo
DESCRIPTION:Se suspenden actividades vespertinas
URL:https://www.activa.edu.mx/event/cafe-literario-para-personal-activo/
END:VEVENT
BEGIN:VEVENT
DTSTART;TZID=America/Denver:20240219T090000
DTEND;TZID=America/Denver:20240222T100000
DTSTAMP:20260422T170230
CREATED:20240125T160153Z
LAST-MODIFIED:20240125T160153Z
UID:3331-1708333200-1708596000@www.activa.edu.mx
SUMMARY:Semana Cultural 🎨📖🎶
DESCRIPTION:
URL:https://www.activa.edu.mx/event/semana-cultural-%f0%9f%8e%a8%f0%9f%93%96%f0%9f%8e%b6/
CATEGORIES:General
END:VEVENT
BEGIN:VEVENT
DTSTART;TZID=America/Denver:20240215T090000
DTEND;TZID=America/Denver:20240215T100000
DTSTAMP:20260422T170230
CREATED:20240125T160022Z
LAST-MODIFIED:20240125T160022Z
UID:3329-1707987600-1707991200@www.activa.edu.mx
SUMMARY:Taller Coreográfico | 5° y 6°P
DESCRIPTION:
URL:https://www.activa.edu.mx/event/taller-coreografico-5-y-6p/
END:VEVENT
BEGIN:VEVENT
DTSTART;VALUE=DATE:20240212
DTEND;VALUE=DATE:20240217
DTSTAMP:20260422T170230
CREATED:20240125T155922Z
LAST-MODIFIED:20240125T155922Z
UID:3327-1707696000-1708127999@www.activa.edu.mx
SUMMARY:Evaluación de fluidez\, comprensión lectora y tablas | Primaria
DESCRIPTION:
URL:https://www.activa.edu.mx/event/evaluacion-de-fluidez-comprension-lectora-y-tablas-primaria-2/
CATEGORIES:Primaria
END:VEVENT
END:VCALENDAR