BEGIN:VCALENDAR
VERSION:2.0
PRODID:-//Escuela Activa Integral A.C. - ECPv6.15.20//NONSGML v1.0//EN
CALSCALE:GREGORIAN
METHOD:PUBLISH
X-WR-CALNAME:Escuela Activa Integral A.C.
X-ORIGINAL-URL:https://www.activa.edu.mx
X-WR-CALDESC:Eventos para Escuela Activa Integral A.C.
REFRESH-INTERVAL;VALUE=DURATION:PT1H
X-Robots-Tag:noindex
X-PUBLISHED-TTL:PT1H
BEGIN:VTIMEZONE
TZID:America/Denver
BEGIN:DAYLIGHT
TZOFFSETFROM:-0700
TZOFFSETTO:-0600
TZNAME:MDT
DTSTART:20240310T090000
END:DAYLIGHT
BEGIN:STANDARD
TZOFFSETFROM:-0600
TZOFFSETTO:-0700
TZNAME:MST
DTSTART:20241103T080000
END:STANDARD
BEGIN:DAYLIGHT
TZOFFSETFROM:-0700
TZOFFSETTO:-0600
TZNAME:MDT
DTSTART:20250309T090000
END:DAYLIGHT
BEGIN:STANDARD
TZOFFSETFROM:-0600
TZOFFSETTO:-0700
TZNAME:MST
DTSTART:20251102T080000
END:STANDARD
BEGIN:DAYLIGHT
TZOFFSETFROM:-0700
TZOFFSETTO:-0600
TZNAME:MDT
DTSTART:20260308T090000
END:DAYLIGHT
BEGIN:STANDARD
TZOFFSETFROM:-0600
TZOFFSETTO:-0700
TZNAME:MST
DTSTART:20261101T080000
END:STANDARD
END:VTIMEZONE
BEGIN:VEVENT
DTSTART;VALUE=DATE:20251020
DTEND;VALUE=DATE:20251025
DTSTAMP:20260421T143505
CREATED:20250821T182137Z
LAST-MODIFIED:20250821T182137Z
UID:12151-1760918400-1761350399@www.activa.edu.mx
SUMMARY:Evaluación de fluidez y comprensión lectora | Primaria
DESCRIPTION:
URL:https://www.activa.edu.mx/event/evaluacion-de-fluidez-y-comprension-lectora-primaria/
END:VEVENT
BEGIN:VEVENT
DTSTART;TZID=America/Denver:20251017T090000
DTEND;TZID=America/Denver:20251017T090000
DTSTAMP:20260421T143505
CREATED:20250821T180622Z
LAST-MODIFIED:20250903T173328Z
UID:12121-1760691600-1760691600@www.activa.edu.mx
SUMMARY:🇲🇽 Homenaje 3°K
DESCRIPTION:
URL:https://www.activa.edu.mx/event/%f0%9f%87%b2%f0%9f%87%bd-homenaje-3k-2/
END:VEVENT
BEGIN:VEVENT
DTSTART;TZID=America/Denver:20251016T090000
DTEND;TZID=America/Denver:20251016T090000
DTSTAMP:20260421T143505
CREATED:20250821T181455Z
LAST-MODIFIED:20250929T164641Z
UID:12139-1760605200-1760605200@www.activa.edu.mx
SUMMARY:Taller coreográfico 💃🕺 4°P y 3°S
DESCRIPTION:9:15 am. \n4°P- El libro de la selva \n3°S – El mago de Oz
URL:https://www.activa.edu.mx/event/taller-coreografico-%f0%9f%92%83%f0%9f%95%ba-4p-y-3s/
END:VEVENT
BEGIN:VEVENT
DTSTART;TZID=America/Denver:20251014T163000
DTEND;TZID=America/Denver:20251014T183000
DTSTAMP:20260421T143505
CREATED:20251002T193022Z
LAST-MODIFIED:20251002T193627Z
UID:12712-1760459400-1760466600@www.activa.edu.mx
SUMMARY:Taller "Padres Activos y Eficaces" | UFA
DESCRIPTION:Sesión 1/8 \n¿Quieres aprender cómo poner límites respetuosos y formar hijos más seguros de sí mismos? \nTe invitamos a participar en el 𝘁𝗮𝗹𝗹𝗲𝗿 “𝗣𝗮𝗱𝗿𝗲𝘀 𝗔𝗰𝘁𝗶𝘃𝗼𝘀 𝘆 𝗲𝗳𝗶𝗰𝗮𝗰𝗲𝘀”\, una oportunidad para conocer y compartir herramientas y vivencias que nos ayudarán a formar hijos más seguros de sí mismos.⁣\n⁣\nDurante 8 semanas -1 sesión semanal- los participantes tienen la oportunidad de convivir y compartir distintas vivencias con otros padres\, guiados por el equipo de la UFA.⁣\n⁣\n Iniciamos el 14 de octubre. ⁣\nInscríbete en la UFA o por  nereyda@activa.edu.mx
URL:https://www.activa.edu.mx/event/taller-padres-activos-y-eficaces-ufa/
CATEGORIES:UFA
END:VEVENT
BEGIN:VEVENT
DTSTART;VALUE=DATE:20251013
DTEND;VALUE=DATE:20251016
DTSTAMP:20260421T143505
CREATED:20250929T164126Z
LAST-MODIFIED:20251006T184139Z
UID:12622-1760313600-1760572799@www.activa.edu.mx
SUMMARY:Semana de solidaridad 🫶 HAMBRETON
DESCRIPTION:
URL:https://www.activa.edu.mx/event/semana-de-solidaridad-%f0%9f%ab%b6-hambreton-2/
END:VEVENT
BEGIN:VEVENT
DTSTART;TZID=America/Denver:20251010T090000
DTEND;TZID=America/Denver:20251010T090000
DTSTAMP:20260421T143505
CREATED:20250821T181245Z
LAST-MODIFIED:20250903T173541Z
UID:12137-1760086800-1760086800@www.activa.edu.mx
SUMMARY:Presentación del Plan Didáctico a papás de 1°K
DESCRIPTION:
URL:https://www.activa.edu.mx/event/presentacion-del-plan-didactico-a-papas-de-1k-2/
END:VEVENT
BEGIN:VEVENT
DTSTART;TZID=America/Denver:20251009T070000
DTEND;TZID=America/Denver:20251009T070000
DTSTAMP:20260421T143505
CREATED:20250821T181206Z
LAST-MODIFIED:20250929T164010Z
UID:12135-1759993200-1759993200@www.activa.edu.mx
SUMMARY:Plática de adolescencia para Papás de 3°S
DESCRIPTION:
URL:https://www.activa.edu.mx/event/platica-de-adolescencia-para-papas-de-1s/
END:VEVENT
BEGIN:VEVENT
DTSTART;VALUE=DATE:20251009
DTEND;VALUE=DATE:20251011
DTSTAMP:20260421T143505
CREATED:20250821T181545Z
LAST-MODIFIED:20250929T164102Z
UID:12141-1759968000-1760140799@www.activa.edu.mx
SUMMARY:Semana de solidaridad 🫶 HAMBRETON
DESCRIPTION:
URL:https://www.activa.edu.mx/event/semana-de-solidaridad-%f0%9f%ab%b6-hambreton/
END:VEVENT
BEGIN:VEVENT
DTSTART;VALUE=DATE:20251006
DTEND;VALUE=DATE:20251011
DTSTAMP:20260421T143505
CREATED:20250821T180821Z
LAST-MODIFIED:20250821T180821Z
UID:12127-1759708800-1760140799@www.activa.edu.mx
SUMMARY:Parcial 1 | Kínder\, Primaria y Secundaria
DESCRIPTION:
URL:https://www.activa.edu.mx/event/parcial-1-kinder-primaria-y-secundaria-4/
END:VEVENT
BEGIN:VEVENT
DTSTART;VALUE=DATE:20251003
DTEND;VALUE=DATE:20251004
DTSTAMP:20260421T143505
CREATED:20250821T181005Z
LAST-MODIFIED:20250821T181005Z
UID:12133-1759449600-1759535999@www.activa.edu.mx
SUMMARY:Evaluación lectura 1°P
DESCRIPTION:
URL:https://www.activa.edu.mx/event/evaluacion-lectura-1p/
END:VEVENT
BEGIN:VEVENT
DTSTART;TZID=America/Denver:20251002T173000
DTEND;TZID=America/Denver:20251002T190000
DTSTAMP:20260421T143505
CREATED:20250821T180944Z
LAST-MODIFIED:20250929T163910Z
UID:12131-1759426200-1759431600@www.activa.edu.mx
SUMMARY:Curso “Formación de disciplina y hábitos en casa” para familias de nuevo ingreso
DESCRIPTION:
URL:https://www.activa.edu.mx/event/curso-acab-ufa-para-familias-de-nuevo-ingreso-4/
END:VEVENT
BEGIN:VEVENT
DTSTART;VALUE=DATE:20251002
DTEND;VALUE=DATE:20251003
DTSTAMP:20260421T143505
CREATED:20250929T164513Z
LAST-MODIFIED:20250929T164513Z
UID:12624-1759363200-1759449599@www.activa.edu.mx
SUMMARY:♻️ Acopio (reprogramado) - recibe 3°Sec
DESCRIPTION:
URL:https://www.activa.edu.mx/event/%e2%99%bb%ef%b8%8f-acopio-reprogramado-recibe-3sec/
END:VEVENT
BEGIN:VEVENT
DTSTART;TZID=America/Denver:20251001T173000
DTEND;TZID=America/Denver:20251001T190000
DTSTAMP:20260421T143505
CREATED:20250821T180917Z
LAST-MODIFIED:20250929T163823Z
UID:12129-1759339800-1759345200@www.activa.edu.mx
SUMMARY:Curso "Formación de disciplina y hábitos en casa" para familias de nuevo ingreso
DESCRIPTION:
URL:https://www.activa.edu.mx/event/curso-acab-ufa-para-familias-de-nuevo-ingreso-3/
END:VEVENT
BEGIN:VEVENT
DTSTART;TZID=America/Denver:20250929T070000
DTEND;TZID=America/Denver:20250929T070000
DTSTAMP:20260421T143505
CREATED:20250821T180642Z
LAST-MODIFIED:20250903T173253Z
UID:12123-1759129200-1759129200@www.activa.edu.mx
SUMMARY:🇲🇽 Homenaje 6°P
DESCRIPTION:
URL:https://www.activa.edu.mx/event/%f0%9f%87%b2%f0%9f%87%bd-homenaje-6p-2/
END:VEVENT
BEGIN:VEVENT
DTSTART;VALUE=DATE:20250929
DTEND;VALUE=DATE:20251004
DTSTAMP:20260421T143505
CREATED:20250821T180758Z
LAST-MODIFIED:20250821T180758Z
UID:12125-1759104000-1759535999@www.activa.edu.mx
SUMMARY:Parcial 1 | Kínder\, Primaria y Secundaria
DESCRIPTION:
URL:https://www.activa.edu.mx/event/parcial-1-kinder-primaria-y-secundaria-3/
END:VEVENT
BEGIN:VEVENT
DTSTART;VALUE=DATE:20250929
DTEND;VALUE=DATE:20250930
DTSTAMP:20260421T143505
CREATED:20250821T180544Z
LAST-MODIFIED:20250821T180544Z
UID:12119-1759104000-1759190399@www.activa.edu.mx
SUMMARY:Intercambio de 📚 por el aniversario de Culiacán
DESCRIPTION:
URL:https://www.activa.edu.mx/event/intercambio-de-%f0%9f%93%9a-por-el-aniversario-de-culiacan-2/
END:VEVENT
BEGIN:VEVENT
DTSTART;VALUE=DATE:20250926
DTEND;VALUE=DATE:20250927
DTSTAMP:20260421T143505
CREATED:20250821T180455Z
LAST-MODIFIED:20250821T180455Z
UID:12117-1758844800-1758931199@www.activa.edu.mx
SUMMARY:Café literario para personal Activo ☕📖
DESCRIPTION:
URL:https://www.activa.edu.mx/event/cafe-literario-para-personal-activo-%e2%98%95%f0%9f%93%96/
END:VEVENT
BEGIN:VEVENT
DTSTART;VALUE=DATE:20250926
DTEND;VALUE=DATE:20250927
DTSTAMP:20260421T143505
CREATED:20250821T180416Z
LAST-MODIFIED:20250821T180416Z
UID:12115-1758844800-1758931199@www.activa.edu.mx
SUMMARY:CTE | No hay clases
DESCRIPTION:
URL:https://www.activa.edu.mx/event/cte-no-hay-clases-11/
END:VEVENT
BEGIN:VEVENT
DTSTART;VALUE=DATE:20250925
DTEND;VALUE=DATE:20250926
DTSTAMP:20260421T143505
CREATED:20250821T180336Z
LAST-MODIFIED:20250821T181852Z
UID:12113-1758758400-1758844799@www.activa.edu.mx
SUMMARY:♻️ Acopio (recibe 3°S)
DESCRIPTION:
URL:https://www.activa.edu.mx/event/%e2%99%bb%ef%b8%8facopio-recibe-3s-2/
END:VEVENT
BEGIN:VEVENT
DTSTART;VALUE=DATE:20250924
DTEND;VALUE=DATE:20250925
DTSTAMP:20260421T143505
CREATED:20250821T180311Z
LAST-MODIFIED:20250821T181912Z
UID:12110-1758672000-1758758399@www.activa.edu.mx
SUMMARY:♻️ Acopio Kínder
DESCRIPTION:
URL:https://www.activa.edu.mx/event/%e2%99%bb%ef%b8%8facopio-kinder-5/
END:VEVENT
BEGIN:VEVENT
DTSTART;TZID=America/Denver:20250919T120000
DTEND;TZID=America/Denver:20250919T120000
DTSTAMP:20260421T143505
CREATED:20250821T180205Z
LAST-MODIFIED:20250903T175039Z
UID:12108-1758283200-1758283200@www.activa.edu.mx
SUMMARY:Asamblea SPF
DESCRIPTION:
URL:https://www.activa.edu.mx/event/asamblea-spf-2/
END:VEVENT
BEGIN:VEVENT
DTSTART;TZID=America/Denver:20250919T093000
DTEND;TZID=America/Denver:20250919T093000
DTSTAMP:20260421T143505
CREATED:20250821T180128Z
LAST-MODIFIED:20250903T175013Z
UID:12106-1758274200-1758274200@www.activa.edu.mx
SUMMARY:Simulacro de evacuación Nacional
DESCRIPTION:
URL:https://www.activa.edu.mx/event/simulacro-de-evacuacion-nacional-2/
END:VEVENT
BEGIN:VEVENT
DTSTART;TZID=America/Denver:20250918T090000
DTEND;TZID=America/Denver:20250918T090000
DTSTAMP:20260421T143505
CREATED:20250821T180032Z
LAST-MODIFIED:20250901T182524Z
UID:12104-1758186000-1758186000@www.activa.edu.mx
SUMMARY:53° Aniversario de la EAI 🥳
DESCRIPTION:9:15 am. \nCanchas EAI
URL:https://www.activa.edu.mx/event/53-aniversario-de-la-eai-%f0%9f%a5%b3/
END:VEVENT
BEGIN:VEVENT
DTSTART;VALUE=DATE:20250916
DTEND;VALUE=DATE:20250917
DTSTAMP:20260421T143505
CREATED:20250821T175814Z
LAST-MODIFIED:20250821T175814Z
UID:12102-1757980800-1758067199@www.activa.edu.mx
SUMMARY:ASUETO
DESCRIPTION:
URL:https://www.activa.edu.mx/event/asueto-12/
END:VEVENT
BEGIN:VEVENT
DTSTART;TZID=America/Denver:20250911T180000
DTEND;TZID=America/Denver:20250911T193000
DTSTAMP:20260421T143505
CREATED:20250821T175756Z
LAST-MODIFIED:20250821T175756Z
UID:12100-1757613600-1757619000@www.activa.edu.mx
SUMMARY:Curso de integración a familias de nuevo ingreso
DESCRIPTION:
URL:https://www.activa.edu.mx/event/curso-de-integracion-a-familias-de-nuevo-ingreso-4/
END:VEVENT
BEGIN:VEVENT
DTSTART;TZID=America/Denver:20250911T093000
DTEND;TZID=America/Denver:20250911T093000
DTSTAMP:20260421T143505
CREATED:20250908T165106Z
LAST-MODIFIED:20250908T165113Z
UID:12455-1757583000-1757583000@www.activa.edu.mx
SUMMARY:Simulacro de evacuación
DESCRIPTION:
URL:https://www.activa.edu.mx/event/simulacro-de-evacuacion-nacional-3/
END:VEVENT
BEGIN:VEVENT
DTSTART;TZID=America/Denver:20250910T180000
DTEND;TZID=America/Denver:20250910T193000
DTSTAMP:20260421T143505
CREATED:20250821T175739Z
LAST-MODIFIED:20250821T175739Z
UID:12098-1757527200-1757532600@www.activa.edu.mx
SUMMARY:Curso de integración a familias de nuevo ingreso
DESCRIPTION:
URL:https://www.activa.edu.mx/event/curso-de-integracion-a-familias-de-nuevo-ingreso-3/
END:VEVENT
BEGIN:VEVENT
DTSTART;VALUE=DATE:20250903
DTEND;VALUE=DATE:20250904
DTSTAMP:20260421T143505
CREATED:20250821T175637Z
LAST-MODIFIED:20250821T175637Z
UID:12096-1756857600-1756943999@www.activa.edu.mx
SUMMARY:Inicio de entrenamientos de equipos deportivos
DESCRIPTION:
URL:https://www.activa.edu.mx/event/inicio-de-entrenamientos-de-equipos-deportivos/
END:VEVENT
BEGIN:VEVENT
DTSTART;TZID=America/Denver:20250902T173000
DTEND;TZID=America/Denver:20250902T183000
DTSTAMP:20260421T143505
CREATED:20250901T171923Z
LAST-MODIFIED:20250901T182045Z
UID:12232-1756834200-1756837800@www.activa.edu.mx
SUMMARY:Junta informativa equipos deportivos | 3° a 6° P
DESCRIPTION:Salón de Usos Múltiples – planta alta de Kínder
URL:https://www.activa.edu.mx/event/junta-informativa-equipos-deportivos-3-a-6-p/
END:VEVENT
BEGIN:VEVENT
DTSTART;TZID=America/Denver:20250902T163000
DTEND;TZID=America/Denver:20250902T173000
DTSTAMP:20260421T143505
CREATED:20250821T175604Z
LAST-MODIFIED:20250901T181951Z
UID:12094-1756830600-1756834200@www.activa.edu.mx
SUMMARY:Junta informativa equipos deportivos | 1° y 2° P
DESCRIPTION:Salón de Usos Múltiples – planta alta de Kínder
URL:https://www.activa.edu.mx/event/junta-informativa-equipos-deportivos-kinder/
END:VEVENT
END:VCALENDAR