BEGIN:VCALENDAR
VERSION:2.0
PRODID:-//Escuela Activa Integral A.C. - ECPv6.15.20//NONSGML v1.0//EN
CALSCALE:GREGORIAN
METHOD:PUBLISH
X-ORIGINAL-URL:https://www.activa.edu.mx
X-WR-CALDESC:Eventos para Escuela Activa Integral A.C.
REFRESH-INTERVAL;VALUE=DURATION:PT1H
X-Robots-Tag:noindex
X-PUBLISHED-TTL:PT1H
BEGIN:VTIMEZONE
TZID:America/Denver
BEGIN:DAYLIGHT
TZOFFSETFROM:-0700
TZOFFSETTO:-0600
TZNAME:MDT
DTSTART:20250309T090000
END:DAYLIGHT
BEGIN:STANDARD
TZOFFSETFROM:-0600
TZOFFSETTO:-0700
TZNAME:MST
DTSTART:20251102T080000
END:STANDARD
BEGIN:DAYLIGHT
TZOFFSETFROM:-0700
TZOFFSETTO:-0600
TZNAME:MDT
DTSTART:20260308T090000
END:DAYLIGHT
BEGIN:STANDARD
TZOFFSETFROM:-0600
TZOFFSETTO:-0700
TZNAME:MST
DTSTART:20261101T080000
END:STANDARD
BEGIN:DAYLIGHT
TZOFFSETFROM:-0700
TZOFFSETTO:-0600
TZNAME:MDT
DTSTART:20270314T090000
END:DAYLIGHT
BEGIN:STANDARD
TZOFFSETFROM:-0600
TZOFFSETTO:-0700
TZNAME:MST
DTSTART:20271107T080000
END:STANDARD
END:VTIMEZONE
BEGIN:VEVENT
DTSTART;VALUE=DATE:20260626
DTEND;VALUE=DATE:20260627
DTSTAMP:20260420T070447
CREATED:20250903T172848Z
LAST-MODIFIED:20250903T172848Z
UID:12445-1782432000-1782518399@www.activa.edu.mx
SUMMARY:CTE | No hay clases
DESCRIPTION:
URL:https://www.activa.edu.mx/event/cte-no-hay-clases-18/
END:VEVENT
BEGIN:VEVENT
DTSTART;TZID=America/Denver:20260630T070000
DTEND;TZID=America/Denver:20260630T070000
DTSTAMP:20260420T070447
CREATED:20250903T172722Z
LAST-MODIFIED:20250903T172730Z
UID:12443-1782802800-1782802800@www.activa.edu.mx
SUMMARY:Ceremonia interna y cambio de escolta | Primaria
DESCRIPTION:
URL:https://www.activa.edu.mx/event/ceremonia-interna-y-cambio-de-escolta-primaria/
END:VEVENT
BEGIN:VEVENT
DTSTART;TZID=America/Denver:20260630T090000
DTEND;TZID=America/Denver:20260630T090000
DTSTAMP:20260420T070447
CREATED:20250903T172655Z
LAST-MODIFIED:20250903T172751Z
UID:12441-1782810000-1782810000@www.activa.edu.mx
SUMMARY:Ceremonia interna y cambio de escolta | Kínder
DESCRIPTION:
URL:https://www.activa.edu.mx/event/ceremonia-interna-y-cambio-de-escolta-kinder/
END:VEVENT
BEGIN:VEVENT
DTSTART;VALUE=DATE:20260701
DTEND;VALUE=DATE:20260703
DTSTAMP:20260420T070447
CREATED:20250903T172937Z
LAST-MODIFIED:20250903T172937Z
UID:12447-1782864000-1783036799@www.activa.edu.mx
SUMMARY:Curso propedéutico | 1°P y 1°S
DESCRIPTION:
URL:https://www.activa.edu.mx/event/curso-propedeutico-1p-y-1s-3/
END:VEVENT
BEGIN:VEVENT
DTSTART;TZID=America/Denver:20260701T090000
DTEND;TZID=America/Denver:20260701T090000
DTSTAMP:20260420T070447
CREATED:20250903T173105Z
LAST-MODIFIED:20250903T173105Z
UID:12451-1782896400-1782896400@www.activa.edu.mx
SUMMARY:Reconocimiento "Siempre Activo"
DESCRIPTION:
URL:https://www.activa.edu.mx/event/reconocimiento-siempre-activo/
END:VEVENT
BEGIN:VEVENT
DTSTART;TZID=America/Denver:20260703T090000
DTEND;TZID=America/Denver:20260703T090000
DTSTAMP:20260420T070447
CREATED:20250903T173013Z
LAST-MODIFIED:20250903T173013Z
UID:12449-1783069200-1783069200@www.activa.edu.mx
SUMMARY:🎓 Ceremonia de Graduación
DESCRIPTION:
URL:https://www.activa.edu.mx/event/%f0%9f%8e%93-ceremonia-de-graduacion-2/
END:VEVENT
END:VCALENDAR