BEGIN:VCALENDAR
VERSION:2.0
PRODID:-//Escuela Activa Integral A.C. - ECPv6.15.20//NONSGML v1.0//EN
CALSCALE:GREGORIAN
METHOD:PUBLISH
X-ORIGINAL-URL:https://www.activa.edu.mx
X-WR-CALDESC:Eventos para Escuela Activa Integral A.C.
REFRESH-INTERVAL;VALUE=DURATION:PT1H
X-Robots-Tag:noindex
X-PUBLISHED-TTL:PT1H
BEGIN:VTIMEZONE
TZID:America/Denver
BEGIN:DAYLIGHT
TZOFFSETFROM:-0700
TZOFFSETTO:-0600
TZNAME:MDT
DTSTART:20240310T090000
END:DAYLIGHT
BEGIN:STANDARD
TZOFFSETFROM:-0600
TZOFFSETTO:-0700
TZNAME:MST
DTSTART:20241103T080000
END:STANDARD
BEGIN:DAYLIGHT
TZOFFSETFROM:-0700
TZOFFSETTO:-0600
TZNAME:MDT
DTSTART:20250309T090000
END:DAYLIGHT
BEGIN:STANDARD
TZOFFSETFROM:-0600
TZOFFSETTO:-0700
TZNAME:MST
DTSTART:20251102T080000
END:STANDARD
BEGIN:DAYLIGHT
TZOFFSETFROM:-0700
TZOFFSETTO:-0600
TZNAME:MDT
DTSTART:20260308T090000
END:DAYLIGHT
BEGIN:STANDARD
TZOFFSETFROM:-0600
TZOFFSETTO:-0700
TZNAME:MST
DTSTART:20261101T080000
END:STANDARD
END:VTIMEZONE
BEGIN:VEVENT
DTSTART;VALUE=DATE:20250609
DTEND;VALUE=DATE:20250614
DTSTAMP:20260421T111752
CREATED:20240912T174901Z
LAST-MODIFIED:20240912T174901Z
UID:7048-1749427200-1749859199@www.activa.edu.mx
SUMMARY:Trimestral 3 | Kínder y Secundaria
DESCRIPTION:
URL:https://www.activa.edu.mx/event/trimestral-3-kinder-y-secundaria/
CATEGORIES:Kínder,Secundaria
END:VEVENT
BEGIN:VEVENT
DTSTART;TZID=America/Denver:20250612T070000
DTEND;TZID=America/Denver:20250612T073000
DTSTAMP:20260421T111752
CREATED:20240912T184705Z
LAST-MODIFIED:20240912T184705Z
UID:7052-1749711600-1749713400@www.activa.edu.mx
SUMMARY:♻️ Acopio (recibe 1°S)
DESCRIPTION:
URL:https://www.activa.edu.mx/event/%e2%99%bb%ef%b8%8f-acopio-recibe-1s/
CATEGORIES:Ecología Activa,General
END:VEVENT
BEGIN:VEVENT
DTSTART;TZID=America/Denver:20250612T090000
DTEND;TZID=America/Denver:20250612T093000
DTSTAMP:20260421T111752
CREATED:20240912T190055Z
LAST-MODIFIED:20240912T190055Z
UID:7054-1749718800-1749720600@www.activa.edu.mx
SUMMARY:Taller coreográfico 💃🕺
DESCRIPTION:
URL:https://www.activa.edu.mx/event/taller-coreografico-%f0%9f%92%83%f0%9f%95%ba-3/
CATEGORIES:General
END:VEVENT
BEGIN:VEVENT
DTSTART;TZID=America/Denver:20250613T180000
DTEND;TZID=America/Denver:20250613T200000
DTSTAMP:20260421T111752
CREATED:20240912T190124Z
LAST-MODIFIED:20240912T190124Z
UID:7056-1749837600-1749844800@www.activa.edu.mx
SUMMARY:🎭 Obra de Teatro | Primaria
DESCRIPTION:
URL:https://www.activa.edu.mx/event/%f0%9f%8e%ad-obra-de-teatro-primaria/
CATEGORIES:Primaria
END:VEVENT
BEGIN:VEVENT
DTSTART;VALUE=DATE:20250616
DTEND;VALUE=DATE:20250621
DTSTAMP:20260421T111752
CREATED:20240912T190316Z
LAST-MODIFIED:20240912T190316Z
UID:7058-1750032000-1750463999@www.activa.edu.mx
SUMMARY:Presentaciones del R.I. | Primaria
DESCRIPTION:
URL:https://www.activa.edu.mx/event/presentaciones-del-r-i-primaria/
CATEGORIES:Primaria
END:VEVENT
BEGIN:VEVENT
DTSTART;TZID=America/Denver:20250623T070000
DTEND;TZID=America/Denver:20250623T090000
DTSTAMP:20260421T111752
CREATED:20240912T190350Z
LAST-MODIFIED:20240912T190350Z
UID:7060-1750662000-1750669200@www.activa.edu.mx
SUMMARY:Ceremonia interna y cambio de escolta | Secundaria
DESCRIPTION:
URL:https://www.activa.edu.mx/event/ceremonia-interna-y-cambio-de-escolta-secundaria/
CATEGORIES:Secundaria
END:VEVENT
BEGIN:VEVENT
DTSTART;TZID=America/Denver:20250626T080000
DTEND;TZID=America/Denver:20250626T090000
DTSTAMP:20260421T111752
CREATED:20240912T190415Z
LAST-MODIFIED:20240912T190415Z
UID:7062-1750924800-1750928400@www.activa.edu.mx
SUMMARY:Ceremonia interna y cambio de escolta | Kínder y Primaria
DESCRIPTION:
URL:https://www.activa.edu.mx/event/ceremonia-interna-y-cambio-de-escolta-kinder-y-primaria/
CATEGORIES:Kínder,Primaria
END:VEVENT
BEGIN:VEVENT
DTSTART;VALUE=DATE:20250627
DTEND;VALUE=DATE:20250628
DTSTAMP:20260421T111752
CREATED:20240912T190558Z
LAST-MODIFIED:20240912T190558Z
UID:7198-1750982400-1751068799@www.activa.edu.mx
SUMMARY:CTE | Inician vacaciones de alumnos
DESCRIPTION:
URL:https://www.activa.edu.mx/event/cte-inician-vacaciones-de-alumnos/
CATEGORIES:General
END:VEVENT
BEGIN:VEVENT
DTSTART;VALUE=DATE:20250630
DTEND;VALUE=DATE:20250825
DTSTAMP:20260421T111752
CREATED:20240912T192347Z
LAST-MODIFIED:20240912T192429Z
UID:7209-1751241600-1756079999@www.activa.edu.mx
SUMMARY:Vacaciones alumnos
DESCRIPTION:*Fecha de regreso tentativa. Confirmaremos cuando tengamos la información.
URL:https://www.activa.edu.mx/event/vacaciones-alumnos/
CATEGORIES:General
END:VEVENT
BEGIN:VEVENT
DTSTART;TZID=America/Denver:20250630T070000
DTEND;TZID=America/Denver:20250701T130000
DTSTAMP:20260421T111752
CREATED:20240912T190442Z
LAST-MODIFIED:20240912T190706Z
UID:7064-1751266800-1751374800@www.activa.edu.mx
SUMMARY:Curso propedéutico | 1°P y 1°S
DESCRIPTION:
URL:https://www.activa.edu.mx/event/curso-propedeutico-1p-y-1s-2/
CATEGORIES:Primaria,Secundaria
END:VEVENT
BEGIN:VEVENT
DTSTART;TZID=America/Denver:20250702T090000
DTEND;TZID=America/Denver:20250702T100000
DTSTAMP:20260421T111752
CREATED:20240912T191247Z
LAST-MODIFIED:20240912T191918Z
UID:7068-1751446800-1751450400@www.activa.edu.mx
SUMMARY:🎓 Ceremonia de Graduación
DESCRIPTION:
URL:https://www.activa.edu.mx/event/%f0%9f%8e%93-ceremonia-de-graduacion/
CATEGORIES:General
END:VEVENT
BEGIN:VEVENT
DTSTART;VALUE=DATE:20250708
DTEND;VALUE=DATE:20250709
DTSTAMP:20260421T111752
CREATED:20240912T192109Z
LAST-MODIFIED:20240912T192109Z
UID:7207-1751932800-1752019199@www.activa.edu.mx
SUMMARY:Inicio vacaciones de personal
DESCRIPTION:
URL:https://www.activa.edu.mx/event/inicio-vacaciones-de-personal/
END:VEVENT
BEGIN:VEVENT
DTSTART;VALUE=DATE:20250821
DTEND;VALUE=DATE:20250822
DTSTAMP:20260421T111752
CREATED:20250821T200210Z
LAST-MODIFIED:20250821T200210Z
UID:12200-1755734400-1755820799@www.activa.edu.mx
SUMMARY:♻️ Acopio Kínder
DESCRIPTION:
URL:https://www.activa.edu.mx/event/%e2%99%bb%ef%b8%8f-acopio-kinder-12/
END:VEVENT
BEGIN:VEVENT
DTSTART;TZID=America/Denver:20250821T080000
DTEND;TZID=America/Denver:20250821T170000
DTSTAMP:20260421T111752
CREATED:20250821T200237Z
LAST-MODIFIED:20250821T200237Z
UID:12202-1755763200-1755795600@www.activa.edu.mx
SUMMARY:♻️ Acopio (recibe 6°P)
DESCRIPTION:
URL:https://www.activa.edu.mx/event/%e2%99%bb%ef%b8%8f-acopio-recibe-6p-2/
END:VEVENT
BEGIN:VEVENT
DTSTART;TZID=America/Denver:20250825T070000
DTEND;TZID=America/Denver:20250825T140000
DTSTAMP:20260421T111752
CREATED:20240912T192607Z
LAST-MODIFIED:20240912T192607Z
UID:7211-1756105200-1756130400@www.activa.edu.mx
SUMMARY:🎒Inicio de clases (por confirmar)
DESCRIPTION:
URL:https://www.activa.edu.mx/event/%f0%9f%8e%92inicio-de-clases-por-confirmar/
END:VEVENT
BEGIN:VEVENT
DTSTART;VALUE=DATE:20250901
DTEND;VALUE=DATE:20250902
DTSTAMP:20260421T111752
CREATED:20250821T175507Z
LAST-MODIFIED:20250821T175507Z
UID:12089-1756684800-1756771199@www.activa.edu.mx
SUMMARY:🎒Inicio de clases
DESCRIPTION:
URL:https://www.activa.edu.mx/event/%f0%9f%8e%92inicio-de-clases/
END:VEVENT
BEGIN:VEVENT
DTSTART;TZID=America/Denver:20250901T163000
DTEND;TZID=America/Denver:20250901T173000
DTSTAMP:20260421T111752
CREATED:20250821T175541Z
LAST-MODIFIED:20250901T184013Z
UID:12091-1756744200-1756747800@www.activa.edu.mx
SUMMARY:Junta informativa equipos deportivos | 2° y 3° Kínder
DESCRIPTION:Salón de Usos Múltiples – planta alta de Kínder
URL:https://www.activa.edu.mx/event/junta-informativa-equipos-deportivos-kinder-y-secundaria/
END:VEVENT
BEGIN:VEVENT
DTSTART;TZID=America/Denver:20250901T173000
DTEND;TZID=America/Denver:20250901T183000
DTSTAMP:20260421T111752
CREATED:20250901T182109Z
LAST-MODIFIED:20250901T182222Z
UID:12268-1756747800-1756751400@www.activa.edu.mx
SUMMARY:Junta informativa equipos deportivos | Secundaria
DESCRIPTION:Salón de Usos Múltiples – planta alta de Kínder
URL:https://www.activa.edu.mx/event/junta-informativa-equipos-deportivos-secundaria/
END:VEVENT
BEGIN:VEVENT
DTSTART;TZID=America/Denver:20250902T163000
DTEND;TZID=America/Denver:20250902T173000
DTSTAMP:20260421T111752
CREATED:20250821T175604Z
LAST-MODIFIED:20250901T181951Z
UID:12094-1756830600-1756834200@www.activa.edu.mx
SUMMARY:Junta informativa equipos deportivos | 1° y 2° P
DESCRIPTION:Salón de Usos Múltiples – planta alta de Kínder
URL:https://www.activa.edu.mx/event/junta-informativa-equipos-deportivos-kinder/
END:VEVENT
BEGIN:VEVENT
DTSTART;TZID=America/Denver:20250902T173000
DTEND;TZID=America/Denver:20250902T183000
DTSTAMP:20260421T111752
CREATED:20250901T171923Z
LAST-MODIFIED:20250901T182045Z
UID:12232-1756834200-1756837800@www.activa.edu.mx
SUMMARY:Junta informativa equipos deportivos | 3° a 6° P
DESCRIPTION:Salón de Usos Múltiples – planta alta de Kínder
URL:https://www.activa.edu.mx/event/junta-informativa-equipos-deportivos-3-a-6-p/
END:VEVENT
BEGIN:VEVENT
DTSTART;VALUE=DATE:20250903
DTEND;VALUE=DATE:20250904
DTSTAMP:20260421T111752
CREATED:20250821T175637Z
LAST-MODIFIED:20250821T175637Z
UID:12096-1756857600-1756943999@www.activa.edu.mx
SUMMARY:Inicio de entrenamientos de equipos deportivos
DESCRIPTION:
URL:https://www.activa.edu.mx/event/inicio-de-entrenamientos-de-equipos-deportivos/
END:VEVENT
BEGIN:VEVENT
DTSTART;TZID=America/Denver:20250910T180000
DTEND;TZID=America/Denver:20250910T193000
DTSTAMP:20260421T111752
CREATED:20250821T175739Z
LAST-MODIFIED:20250821T175739Z
UID:12098-1757527200-1757532600@www.activa.edu.mx
SUMMARY:Curso de integración a familias de nuevo ingreso
DESCRIPTION:
URL:https://www.activa.edu.mx/event/curso-de-integracion-a-familias-de-nuevo-ingreso-3/
END:VEVENT
BEGIN:VEVENT
DTSTART;TZID=America/Denver:20250911T093000
DTEND;TZID=America/Denver:20250911T093000
DTSTAMP:20260421T111752
CREATED:20250908T165106Z
LAST-MODIFIED:20250908T165113Z
UID:12455-1757583000-1757583000@www.activa.edu.mx
SUMMARY:Simulacro de evacuación
DESCRIPTION:
URL:https://www.activa.edu.mx/event/simulacro-de-evacuacion-nacional-3/
END:VEVENT
BEGIN:VEVENT
DTSTART;TZID=America/Denver:20250911T180000
DTEND;TZID=America/Denver:20250911T193000
DTSTAMP:20260421T111752
CREATED:20250821T175756Z
LAST-MODIFIED:20250821T175756Z
UID:12100-1757613600-1757619000@www.activa.edu.mx
SUMMARY:Curso de integración a familias de nuevo ingreso
DESCRIPTION:
URL:https://www.activa.edu.mx/event/curso-de-integracion-a-familias-de-nuevo-ingreso-4/
END:VEVENT
BEGIN:VEVENT
DTSTART;VALUE=DATE:20250916
DTEND;VALUE=DATE:20250917
DTSTAMP:20260421T111752
CREATED:20250821T175814Z
LAST-MODIFIED:20250821T175814Z
UID:12102-1757980800-1758067199@www.activa.edu.mx
SUMMARY:ASUETO
DESCRIPTION:
URL:https://www.activa.edu.mx/event/asueto-12/
END:VEVENT
BEGIN:VEVENT
DTSTART;TZID=America/Denver:20250918T090000
DTEND;TZID=America/Denver:20250918T090000
DTSTAMP:20260421T111752
CREATED:20250821T180032Z
LAST-MODIFIED:20250901T182524Z
UID:12104-1758186000-1758186000@www.activa.edu.mx
SUMMARY:53° Aniversario de la EAI 🥳
DESCRIPTION:9:15 am. \nCanchas EAI
URL:https://www.activa.edu.mx/event/53-aniversario-de-la-eai-%f0%9f%a5%b3/
END:VEVENT
BEGIN:VEVENT
DTSTART;TZID=America/Denver:20250919T093000
DTEND;TZID=America/Denver:20250919T093000
DTSTAMP:20260421T111752
CREATED:20250821T180128Z
LAST-MODIFIED:20250903T175013Z
UID:12106-1758274200-1758274200@www.activa.edu.mx
SUMMARY:Simulacro de evacuación Nacional
DESCRIPTION:
URL:https://www.activa.edu.mx/event/simulacro-de-evacuacion-nacional-2/
END:VEVENT
BEGIN:VEVENT
DTSTART;TZID=America/Denver:20250919T120000
DTEND;TZID=America/Denver:20250919T120000
DTSTAMP:20260421T111752
CREATED:20250821T180205Z
LAST-MODIFIED:20250903T175039Z
UID:12108-1758283200-1758283200@www.activa.edu.mx
SUMMARY:Asamblea SPF
DESCRIPTION:
URL:https://www.activa.edu.mx/event/asamblea-spf-2/
END:VEVENT
BEGIN:VEVENT
DTSTART;VALUE=DATE:20250924
DTEND;VALUE=DATE:20250925
DTSTAMP:20260421T111752
CREATED:20250821T180311Z
LAST-MODIFIED:20250821T181912Z
UID:12110-1758672000-1758758399@www.activa.edu.mx
SUMMARY:♻️ Acopio Kínder
DESCRIPTION:
URL:https://www.activa.edu.mx/event/%e2%99%bb%ef%b8%8facopio-kinder-5/
END:VEVENT
BEGIN:VEVENT
DTSTART;VALUE=DATE:20250925
DTEND;VALUE=DATE:20250926
DTSTAMP:20260421T111752
CREATED:20250821T180336Z
LAST-MODIFIED:20250821T181852Z
UID:12113-1758758400-1758844799@www.activa.edu.mx
SUMMARY:♻️ Acopio (recibe 3°S)
DESCRIPTION:
URL:https://www.activa.edu.mx/event/%e2%99%bb%ef%b8%8facopio-recibe-3s-2/
END:VEVENT
END:VCALENDAR