BEGIN:VCALENDAR
VERSION:2.0
PRODID:-//Escuela Activa Integral A.C. - ECPv6.15.20//NONSGML v1.0//EN
CALSCALE:GREGORIAN
METHOD:PUBLISH
X-WR-CALNAME:Escuela Activa Integral A.C.
X-ORIGINAL-URL:https://www.activa.edu.mx
X-WR-CALDESC:Eventos para Escuela Activa Integral A.C.
REFRESH-INTERVAL;VALUE=DURATION:PT1H
X-Robots-Tag:noindex
X-PUBLISHED-TTL:PT1H
BEGIN:VTIMEZONE
TZID:America/Denver
BEGIN:DAYLIGHT
TZOFFSETFROM:-0700
TZOFFSETTO:-0600
TZNAME:MDT
DTSTART:20250309T090000
END:DAYLIGHT
BEGIN:STANDARD
TZOFFSETFROM:-0600
TZOFFSETTO:-0700
TZNAME:MST
DTSTART:20251102T080000
END:STANDARD
BEGIN:DAYLIGHT
TZOFFSETFROM:-0700
TZOFFSETTO:-0600
TZNAME:MDT
DTSTART:20260308T090000
END:DAYLIGHT
BEGIN:STANDARD
TZOFFSETFROM:-0600
TZOFFSETTO:-0700
TZNAME:MST
DTSTART:20261101T080000
END:STANDARD
BEGIN:DAYLIGHT
TZOFFSETFROM:-0700
TZOFFSETTO:-0600
TZNAME:MDT
DTSTART:20270314T090000
END:DAYLIGHT
BEGIN:STANDARD
TZOFFSETFROM:-0600
TZOFFSETTO:-0700
TZNAME:MST
DTSTART:20271107T080000
END:STANDARD
END:VTIMEZONE
BEGIN:VEVENT
DTSTART;VALUE=DATE:20260615
DTEND;VALUE=DATE:20260619
DTSTAMP:20260420T030735
CREATED:20250903T172410Z
LAST-MODIFIED:20250903T172410Z
UID:12432-1781481600-1781827199@www.activa.edu.mx
SUMMARY:Presentaciones del R.I. | Primaria
DESCRIPTION:
URL:https://www.activa.edu.mx/event/presentaciones-del-r-i-primaria-2/
END:VEVENT
BEGIN:VEVENT
DTSTART;VALUE=DATE:20260617
DTEND;VALUE=DATE:20260618
DTSTAMP:20260420T030735
CREATED:20250903T172308Z
LAST-MODIFIED:20250903T172308Z
UID:12428-1781654400-1781740799@www.activa.edu.mx
SUMMARY:♻️ Último acopio Kínder
DESCRIPTION:
URL:https://www.activa.edu.mx/event/%e2%99%bb%ef%b8%8f-ultimo-acopio-kinder/
END:VEVENT
END:VCALENDAR