BEGIN:VCALENDAR
VERSION:2.0
PRODID:-//Escuela Activa Integral A.C. - ECPv6.15.20//NONSGML v1.0//EN
CALSCALE:GREGORIAN
METHOD:PUBLISH
X-ORIGINAL-URL:https://www.activa.edu.mx
X-WR-CALDESC:Eventos para Escuela Activa Integral A.C.
REFRESH-INTERVAL;VALUE=DURATION:PT1H
X-Robots-Tag:noindex
X-PUBLISHED-TTL:PT1H
BEGIN:VTIMEZONE
TZID:America/Denver
BEGIN:DAYLIGHT
TZOFFSETFROM:-0700
TZOFFSETTO:-0600
TZNAME:MDT
DTSTART:20240310T090000
END:DAYLIGHT
BEGIN:STANDARD
TZOFFSETFROM:-0600
TZOFFSETTO:-0700
TZNAME:MST
DTSTART:20241103T080000
END:STANDARD
BEGIN:DAYLIGHT
TZOFFSETFROM:-0700
TZOFFSETTO:-0600
TZNAME:MDT
DTSTART:20250309T090000
END:DAYLIGHT
BEGIN:STANDARD
TZOFFSETFROM:-0600
TZOFFSETTO:-0700
TZNAME:MST
DTSTART:20251102T080000
END:STANDARD
BEGIN:DAYLIGHT
TZOFFSETFROM:-0700
TZOFFSETTO:-0600
TZNAME:MDT
DTSTART:20260308T090000
END:DAYLIGHT
BEGIN:STANDARD
TZOFFSETFROM:-0600
TZOFFSETTO:-0700
TZNAME:MST
DTSTART:20261101T080000
END:STANDARD
END:VTIMEZONE
BEGIN:VEVENT
DTSTART;VALUE=DATE:20250127
DTEND;VALUE=DATE:20250201
DTSTAMP:20260421T070404
CREATED:20240911T173249Z
LAST-MODIFIED:20240911T173249Z
UID:6950-1737936000-1738367999@www.activa.edu.mx
SUMMARY:🏆⚽Copa Activa de Fútbol
DESCRIPTION:
URL:https://www.activa.edu.mx/event/%f0%9f%8f%86%e2%9a%bdcopa-activa-de-futbol/
CATEGORIES:Deportes,General
END:VEVENT
BEGIN:VEVENT
DTSTART;TZID=America/Denver:20250127T100000
DTEND;TZID=America/Denver:20250127T140000
DTSTAMP:20260421T070404
CREATED:20240911T172744Z
LAST-MODIFIED:20240911T172744Z
UID:6942-1737972000-1737986400@www.activa.edu.mx
SUMMARY:Entrada de alumnos a las 10:00 AM
DESCRIPTION:
URL:https://www.activa.edu.mx/event/entrada-de-alumnos-a-las-1000-am/
CATEGORIES:General
END:VEVENT
END:VCALENDAR