BEGIN:VCALENDAR
VERSION:2.0
PRODID:-//Escuela Activa Integral A.C. - ECPv6.15.20//NONSGML v1.0//EN
CALSCALE:GREGORIAN
METHOD:PUBLISH
X-ORIGINAL-URL:https://www.activa.edu.mx
X-WR-CALDESC:Eventos para Escuela Activa Integral A.C.
REFRESH-INTERVAL;VALUE=DURATION:PT1H
X-Robots-Tag:noindex
X-PUBLISHED-TTL:PT1H
BEGIN:VTIMEZONE
TZID:America/Denver
BEGIN:DAYLIGHT
TZOFFSETFROM:-0700
TZOFFSETTO:-0600
TZNAME:MDT
DTSTART:20230312T090000
END:DAYLIGHT
BEGIN:STANDARD
TZOFFSETFROM:-0600
TZOFFSETTO:-0700
TZNAME:MST
DTSTART:20231105T080000
END:STANDARD
BEGIN:DAYLIGHT
TZOFFSETFROM:-0700
TZOFFSETTO:-0600
TZNAME:MDT
DTSTART:20240310T090000
END:DAYLIGHT
BEGIN:STANDARD
TZOFFSETFROM:-0600
TZOFFSETTO:-0700
TZNAME:MST
DTSTART:20241103T080000
END:STANDARD
BEGIN:DAYLIGHT
TZOFFSETFROM:-0700
TZOFFSETTO:-0600
TZNAME:MDT
DTSTART:20250309T090000
END:DAYLIGHT
BEGIN:STANDARD
TZOFFSETFROM:-0600
TZOFFSETTO:-0700
TZNAME:MST
DTSTART:20251102T080000
END:STANDARD
END:VTIMEZONE
BEGIN:VEVENT
DTSTART;TZID=America/Denver:20241127T163000
DTEND;TZID=America/Denver:20241128T170000
DTSTAMP:20260421T100659
CREATED:20240902T205404Z
LAST-MODIFIED:20240902T205404Z
UID:6876-1732725000-1732813200@www.activa.edu.mx
SUMMARY:Juntas entrega de calificaciones | Secundaria
DESCRIPTION:
URL:https://www.activa.edu.mx/event/juntas-entrega-de-calificaciones-secundaria/
CATEGORIES:Secundaria
END:VEVENT
BEGIN:VEVENT
DTSTART;TZID=America/Denver:20241128T080000
DTEND;TZID=America/Denver:20241128T110000
DTSTAMP:20260421T100659
CREATED:20240902T205516Z
LAST-MODIFIED:20241111T180215Z
UID:6874-1732780800-1732791600@www.activa.edu.mx
SUMMARY:Fiesta Mexicana  🇲🇽
DESCRIPTION:Esta celebración se realizará con el tema “Sabor a México”\, con la siguiente logística:\n8:00 a 9:30 am | Venta de desayuno\n9:30 a 10:00 am | Festival artístico\n10:00 a 11:00 am | Juegos tradicionales\n11:00 am | Regreso a las actividades escolares \n* La hora de salida de clases será la habitual en cada sección.
URL:https://www.activa.edu.mx/event/noche-mexicana-%f0%9f%87%b2%f0%9f%87%bd/
CATEGORIES:General
END:VEVENT
END:VCALENDAR