BEGIN:VCALENDAR
VERSION:2.0
PRODID:-//Escuela Activa Integral A.C. - ECPv6.15.20//NONSGML v1.0//EN
CALSCALE:GREGORIAN
METHOD:PUBLISH
X-WR-CALNAME:Escuela Activa Integral A.C.
X-ORIGINAL-URL:https://www.activa.edu.mx
X-WR-CALDESC:Eventos para Escuela Activa Integral A.C.
REFRESH-INTERVAL;VALUE=DURATION:PT1H
X-Robots-Tag:noindex
X-PUBLISHED-TTL:PT1H
BEGIN:VTIMEZONE
TZID:America/Denver
BEGIN:DAYLIGHT
TZOFFSETFROM:-0700
TZOFFSETTO:-0600
TZNAME:MDT
DTSTART:20230312T090000
END:DAYLIGHT
BEGIN:STANDARD
TZOFFSETFROM:-0600
TZOFFSETTO:-0700
TZNAME:MST
DTSTART:20231105T080000
END:STANDARD
BEGIN:DAYLIGHT
TZOFFSETFROM:-0700
TZOFFSETTO:-0600
TZNAME:MDT
DTSTART:20240310T090000
END:DAYLIGHT
BEGIN:STANDARD
TZOFFSETFROM:-0600
TZOFFSETTO:-0700
TZNAME:MST
DTSTART:20241103T080000
END:STANDARD
BEGIN:DAYLIGHT
TZOFFSETFROM:-0700
TZOFFSETTO:-0600
TZNAME:MDT
DTSTART:20250309T090000
END:DAYLIGHT
BEGIN:STANDARD
TZOFFSETFROM:-0600
TZOFFSETTO:-0700
TZNAME:MST
DTSTART:20251102T080000
END:STANDARD
END:VTIMEZONE
BEGIN:VEVENT
DTSTART;TZID=America/Denver:20240903T160000
DTEND;TZID=America/Denver:20240903T170000
DTSTAMP:20260424T081830
CREATED:20240829T191449Z
LAST-MODIFIED:20240829T191449Z
UID:6775-1725379200-1725382800@www.activa.edu.mx
SUMMARY:Juntas informativas de Equipos deportivos
DESCRIPTION:Salón de usos múltiples \n5° y 6°P – 4:30-5:30 pm \n1° a 4°P – 6:00-7:00 pm
URL:https://www.activa.edu.mx/event/juntas-informativas-de-equipos-deportivos-2/
CATEGORIES:Deportes,General
END:VEVENT
END:VCALENDAR